BEGIN:VCALENDAR
VERSION:2.0
PRODID:icalendar-ruby
CALSCALE:GREGORIAN
BEGIN:VEVENT
DTSTAMP:20260420T084845Z
UID:cmUjag
DTSTART;VALUE=DATE:20210222
DTEND;VALUE=DATE:20210227
CLASS:PUBLIC
CREATED:20201022T141304
DESCRIPTION: Please note that tis event started on Monday 22nd February. Wh
 ile you'll have access to films from the talks that have already streamed 
 we want to be clear that some of the event has happened. \n
LAST-MODIFIED:20241120T095837
LOCATION:Online
ORGANIZER:mailto:jim@museumnext.com
SUMMARY:MuseumNext Digital Summit
URL;VALUE=URI:https://ti.to/nxt/digital-summit-2021
URL;VALUE=URI:https://ti.to/nxt/digital-summit-2021
END:VEVENT
END:VCALENDAR
