BEGIN:VCALENDAR
VERSION:2.0
PRODID:icalendar-ruby
CALSCALE:GREGORIAN
BEGIN:VEVENT
DTSTAMP:20260422T020719Z
UID:yq8Yww
DTSTART:20260503T180000
DTEND:20260504T020000
CLASS:PUBLIC
CREATED:20260212T205123
DESCRIPTION: NUVEL VIP proudly presents our first private members event of 
 2026 and we’re setting the tone in style. \n\n We are taking over the ro
 oftop at Crowded House\, located at the top floor of Trinity Leeds\, for a
 n unforgettable evening above the city skyline. \n\n Expect an expertly cu
 rated line-up of DJs from across the UK delivering high-energy sets. As th
 e sun sets over Leeds\, we elevate the atmosphere with an exclusive settin
 g\, premium music\, and the unmistakable top tier NUVEL experience. \n\n R
 efined. Electric. Unmissable. \n\n We can’t wait to welcome our members 
 back for a night that marks the beginning of an incredible 2026. \n
LAST-MODIFIED:20260420T172626
LOCATION:Crowded house
ORGANIZER:mailto:nuvelvipllp@outlook.com
SUMMARY:NUVEL: ESSENCE
URL;VALUE=URI:https://ti.to/nuvel/nuvel-essence
URL;VALUE=URI:https://ti.to/nuvel/nuvel-essence
END:VEVENT
END:VCALENDAR
