BEGIN:VCALENDAR
VERSION:2.0
PRODID:icalendar-ruby
CALSCALE:GREGORIAN
BEGIN:VTIMEZONE
TZID:America/New_York
BEGIN:DAYLIGHT
DTSTART:20260308T030000
TZOFFSETFROM:-0500
TZOFFSETTO:-0400
RRULE:FREQ=YEARLY;BYDAY=2SU;BYMONTH=3
TZNAME:EDT
END:DAYLIGHT
BEGIN:STANDARD
DTSTART:20261101T010000
TZOFFSETFROM:-0400
TZOFFSETTO:-0500
RRULE:FREQ=YEARLY;BYDAY=1SU;BYMONTH=11
TZNAME:EST
END:STANDARD
END:VTIMEZONE
BEGIN:VEVENT
DTSTAMP:20260425T021804Z
UID:PXE4Cg
DTSTART;TZID=America/New_York:20260930T090000
DTEND;TZID=America/New_York:20261002T180000
CLASS:PUBLIC
CREATED:20260326T092509
DESCRIPTION: This year\, Clojure/Conj welcomes you to the Charlotte Convent
 ion Center from September 30 - October 2\, 2026! The first day will includ
 e optional activities for an additional fee and an evening Meet-and-Mix se
 ssion. We’ll publish the full program in the coming weeks\, once we’ve
  finished putting together something genuinely juicy.\nCurrent tickets on 
 sale include full access to the main conference (Oct 1 - 2) and evening ev
 ents. \n\n \n Conference Hotel - DoubleTree by Hilton Charlotte City Cente
 r for $179 + taxes/night (reservation link and phone will be shared soon) 
 \n Sponsorship - If you're interested in supporting the Clojure community\
 , reach out to clojure-conj@nubank.com.br to discuss sponsorship opportuni
 ties \n \n\n\n \n Starts\n Ends\n \n \n 9am\n 6pm\n \n \n September 30th\n
  October 2nd\n \n\n
LAST-MODIFIED:20260408T094821
LOCATION:Charlotte\, NC
ORGANIZER:mailto:clojure-conj@nubank.com.br
SUMMARY:Clojure/Conj 2026
URL;VALUE=URI:https://ti.to/nubank/clojureconj-2026
URL;VALUE=URI:https://ti.to/nubank/clojureconj-2026
END:VEVENT
END:VCALENDAR
