BEGIN:VCALENDAR
VERSION:2.0
PRODID:icalendar-ruby
CALSCALE:GREGORIAN
BEGIN:VTIMEZONE
TZID:America/New_York
BEGIN:DAYLIGHT
DTSTART:20240310T030000
TZOFFSETFROM:-0500
TZOFFSETTO:-0400
RRULE:FREQ=YEARLY;BYDAY=2SU;BYMONTH=3
TZNAME:EDT
END:DAYLIGHT
BEGIN:STANDARD
DTSTART:20241103T010000
TZOFFSETFROM:-0400
TZOFFSETTO:-0500
RRULE:FREQ=YEARLY;BYDAY=1SU;BYMONTH=11
TZNAME:EST
END:STANDARD
END:VTIMEZONE
BEGIN:VEVENT
DTSTAMP:20260424T144729Z
UID:j0Wfbw
DTSTART;TZID=America/New_York:20241023T130000
DTEND;TZID=America/New_York:20241025T180000
CLASS:PUBLIC
CREATED:20240513T095802
DESCRIPTION: This year Clojure/conj welcomes you to the George Washington M
 asonic Memorial from Oct 23 - 25\, 2024! The conference will begin at 1 pm
  on Wednesday\, Oct 23 and end at 6 pm on Friday\, Oct 25. Tickets include
  full access to the conference and evening events. \n\n \n Conference Hote
 l - The Westin Alexandria Old Town - book for $289+/night \n Sponsorship -
  If you'd like to sponsor the conference\, check out our sponsorship oppor
 tunities \n \n
LAST-MODIFIED:20260326T094357
LOCATION:Alexandria\, VA
ORGANIZER:mailto:clojure-conj@nubank.com.br
SUMMARY:Clojure/conj 2024
URL;VALUE=URI:https://ti.to/nubank/clojureconj-2024
URL;VALUE=URI:https://ti.to/nubank/clojureconj-2024
END:VEVENT
END:VCALENDAR
