BEGIN:VCALENDAR
VERSION:2.0
PRODID:icalendar-ruby
CALSCALE:GREGORIAN
BEGIN:VEVENT
DTSTAMP:20260420T024619Z
UID:cdlYYQ
DTSTART;VALUE=DATE:20211118
DTEND;VALUE=DATE:20211120
CLASS:PUBLIC
CREATED:20210830T091810
DESCRIPTION: NSSpain 2021\, edition 9th\, going remote again. You'll be abl
 e to enjoy one of the best conferences about macOS\, iOS and Swift develop
 ment from your couch\, anywhere you are! 😊 \n\n More info: https://remo
 te.nsspain.com/ \n
LAST-MODIFIED:20220531T230122
LOCATION:Planet Earth
ORGANIZER:mailto:info@nsspain.com
SUMMARY:NSSpain 2021: Remote Edition
URL;VALUE=URI:https://ti.to/nsspain/remote-2021-edition
URL;VALUE=URI:https://ti.to/nsspain/remote-2021-edition
END:VEVENT
END:VCALENDAR
