BEGIN:VCALENDAR
VERSION:2.0
PRODID:icalendar-ruby
CALSCALE:GREGORIAN
BEGIN:VTIMEZONE
TZID:America/New_York
BEGIN:DAYLIGHT
DTSTART:20260308T030000
TZOFFSETFROM:-0500
TZOFFSETTO:-0400
RRULE:FREQ=YEARLY;BYDAY=2SU;BYMONTH=3
TZNAME:EDT
END:DAYLIGHT
BEGIN:STANDARD
DTSTART:20261101T010000
TZOFFSETFROM:-0400
TZOFFSETTO:-0500
RRULE:FREQ=YEARLY;BYDAY=1SU;BYMONTH=11
TZNAME:EST
END:STANDARD
END:VTIMEZONE
BEGIN:VEVENT
DTSTAMP:20260423T203027Z
UID:8MFNIA
DTSTART;TZID=America/New_York:20260612T193000
DTEND;TZID=America/New_York:20260612T213000
CLASS:PUBLIC
CREATED:20260317T114221
DESCRIPTION: Le département NV Couples présente sa soirée Date Night à 
 NV Longueuil\, une soirée que tu ne veux pas manquer ! \n\n La routine va
  vite et les couples s’oublient… Cette soirée est pensée pour toi : 
 fais garder les enfants et viens vivre un moment de qualité à deux et re
 ncontrer d’autres couples. \n\n Au programme : animation dynamique\, mes
 sage inspirant de Benoît et Nancy Laprade pour fortifier ton couple. Tu v
 oudras rester jusqu’à la fin! \n\n On vous accueille dès 19h00\, et la
  soirée débutera à 19h30. \n\n *Veuillez noter qu'il n'y aura aucun ser
 vice de garde offert pour les enfants \n
LAST-MODIFIED:20260325T163309
LOCATION:Église Nouvelle Vie de Longueuil
ORGANIZER:mailto:blaprade@nouvellevie.com
SUMMARY:NV Longueuil - Soirée Date Night - 12 juin 2026
URL;VALUE=URI:https://ti.to/nouvellevie/soiree-date-night-12-juin-2026
URL;VALUE=URI:https://ti.to/nouvellevie/soiree-date-night-12-juin-2026
END:VEVENT
END:VCALENDAR
