BEGIN:VCALENDAR
VERSION:2.0
PRODID:icalendar-ruby
CALSCALE:GREGORIAN
BEGIN:VTIMEZONE
TZID:America/New_York
BEGIN:DAYLIGHT
DTSTART:20260308T030000
TZOFFSETFROM:-0500
TZOFFSETTO:-0400
RRULE:FREQ=YEARLY;BYDAY=2SU;BYMONTH=3
TZNAME:EDT
END:DAYLIGHT
BEGIN:STANDARD
DTSTART:20261101T010000
TZOFFSETFROM:-0400
TZOFFSETTO:-0500
RRULE:FREQ=YEARLY;BYDAY=1SU;BYMONTH=11
TZNAME:EST
END:STANDARD
END:VTIMEZONE
BEGIN:VEVENT
DTSTAMP:20260423T231724Z
UID:xKgCIw
DTSTART;TZID=America/New_York:20260428T190000
DTEND;TZID=America/New_York:20260428T210000
CLASS:PUBLIC
CREATED:20260331T153529
DESCRIPTION: Nous avons le plaisir d'inviter toutes les femmes de NV La Pra
 irie à une soirée spéciale.\nAu programme :\nUn temps de connexion et d
 e partage.\nUn temps d'adoration dans la louange.\nDes bouchées et des ra
 fraîchissements.\nUn talk-show inspirant. \n
LAST-MODIFIED:20260412T102409
LOCATION:Église Nouvelle Vie La Prairie
ORGANIZER:mailto:info.laprairie@nouvellevie.com
SUMMARY:7 à 9 des femmes - 28 avril 2026
URL;VALUE=URI:https://ti.to/nouvellevie/la-prairie-7-9-femmes-28-04
URL;VALUE=URI:https://ti.to/nouvellevie/la-prairie-7-9-femmes-28-04
END:VEVENT
END:VCALENDAR
