BEGIN:VCALENDAR
VERSION:2.0
PRODID:icalendar-ruby
CALSCALE:GREGORIAN
BEGIN:VTIMEZONE
TZID:Europe/London
BEGIN:DAYLIGHT
DTSTART:20250330T020000
TZOFFSETFROM:+0000
TZOFFSETTO:+0100
RRULE:FREQ=YEARLY;BYDAY=-1SU;BYMONTH=3
TZNAME:BST
END:DAYLIGHT
BEGIN:STANDARD
DTSTART:20251026T010000
TZOFFSETFROM:+0100
TZOFFSETTO:+0000
RRULE:FREQ=YEARLY;BYDAY=-1SU;BYMONTH=10
TZNAME:GMT
END:STANDARD
END:VTIMEZONE
BEGIN:VEVENT
DTSTAMP:20260420T142514Z
UID:wUod9g
DTSTART;TZID=Europe/London:20250724T180000
DTEND;TZID=Europe/London:20250724T230000
CLASS:PUBLIC
CREATED:20250612T152920
DESCRIPTION: A fun-filled evening of barbecue and technology at the Eagle P
 ub in Norwich! \n\n This event is open to everyone in the community. Wheth
 er you're interested in learning more about technology or just want to hav
 e some good old-fashioned grilling fun with friends and family\, this is a
 n event that you won't want to miss. So come on out and enjoy some tasty b
 arbeque while being part of something bigger - a celebration of innovation
 \, creativity\, and community spirit! \n\n It's basically an unconference 
 composed of a series of lightning talks among small groups\, with a stop f
 or a networking dinner in the middle \n
LAST-MODIFIED:20260415T111059
LOCATION:The Eagle\, Newmarket Road\, Norwich
ORGANIZER:mailto:alex@norfolkdevelopers.com
SUMMARY:Fork\, commit\, & grill: Summer BBQ
URL;VALUE=URI:https://ti.to/norfolkdevelopers/summer-bbq-2025
URL;VALUE=URI:https://ti.to/norfolkdevelopers/summer-bbq-2025
END:VEVENT
END:VCALENDAR
