BEGIN:VCALENDAR
VERSION:2.0
PRODID:icalendar-ruby
CALSCALE:GREGORIAN
BEGIN:VTIMEZONE
TZID:Europe/Riga
BEGIN:DAYLIGHT
DTSTART:20260329T040000
TZOFFSETFROM:+0200
TZOFFSETTO:+0300
RRULE:FREQ=YEARLY;BYDAY=-1SU;BYMONTH=3
TZNAME:EEST
END:DAYLIGHT
BEGIN:STANDARD
DTSTART:20261025T030000
TZOFFSETFROM:+0300
TZOFFSETTO:+0200
RRULE:FREQ=YEARLY;BYDAY=-1SU;BYMONTH=10
TZNAME:EET
END:STANDARD
END:VTIMEZONE
BEGIN:VEVENT
DTSTAMP:20260424T214139Z
UID:xyWnaA
DTSTART;TZID=Europe/Riga:20260512T080000
DTEND;TZID=Europe/Riga:20260513T200000
CLASS:PUBLIC
CREATED:20251031T112344
DESCRIPTION: Baltic Fintech Days 2026 is where the Baltic region’s world-
 class fintech innovation meets global opportunity. The Baltics lead Europe
  in cutting-edge financial solutions and boast the highest density of unic
 orns per capita\, outpacing hubs like Singapore\, Israel\, and Luxembourg.
  \n\n BFD 2026 brings this momentum together with 100 world-class speakers
 \, 50+ sessions\, 35 partners\, and 20+ side events\, making it the Baltic
 s’ largest and most vibrant fintech experience. It’s the place where f
 ounders\, investors\, and industry leaders connect\, collaborate\, and sha
 pe the future of financial technology. \n\n Two dynamic days await you: \n
 \n May 12: Explore a variety of side events across multiple city venues in
  Riga\, designed for networking and deep dives into the latest fintech top
 ics. \n\n May 13: Join us for the main conference at Hanzas Perons - a ful
 l day of insightful presentations\, panel discussions\, and high-impact ne
 tworking with top industry professionals. \n\n If you want to discover wha
 t’s next in fintech\, you can’t miss Baltic Fintech Days 2026. \n
LAST-MODIFIED:20260421T133433
LOCATION:
ORGANIZER:mailto:hello@balticfintechdays.com
SUMMARY:Baltic Fintech Days 2026
URL;VALUE=URI:https://ti.to/nordic-fintech-magazine/baltic-fintech-days-202
 6
URL;VALUE=URI:https://ti.to/nordic-fintech-magazine/baltic-fintech-days-202
 6
END:VEVENT
END:VCALENDAR
