BEGIN:VCALENDAR
VERSION:2.0
PRODID:icalendar-ruby
CALSCALE:GREGORIAN
BEGIN:VEVENT
DTSTAMP:20260423T160438Z
UID:5yw3hw
DTSTART;VALUE=DATE:20170211
DTEND;VALUE=DATE:20170212
CLASS:PUBLIC
CREATED:20170126T214413
DESCRIPTION: From 1-5PM. We're a monthly meetup group that helps people new
  to JavaScript\, Node.js\, or programming in general get comfortable with 
 self directed lessons. Our meetups are group learning experiences\, where 
 people of all skill levels come together to strengthen their understanding
  of JavaScript. \n\n If you'd like to be a mentor\, please check in here: 
 https://github.com/nodeschool/oakland/issues/38 \n
LAST-MODIFIED:20170211T195555
LOCATION:1999 Harrison St. Ste. 1150 Oakland\, CA 94612
ORGANIZER:mailto:tim@kemp59f.info
SUMMARY:NodeSchool Oakland February 2017 @ npm
URL;VALUE=URI:https://ti.to/nodeschool-oakland/nodeschool-oakland-february-
 2017
URL;VALUE=URI:https://ti.to/nodeschool-oakland/nodeschool-oakland-february-
 2017
END:VEVENT
END:VCALENDAR
