BEGIN:VCALENDAR
VERSION:2.0
PRODID:icalendar-ruby
CALSCALE:GREGORIAN
BEGIN:VEVENT
DTSTAMP:20260422T153213Z
UID:PLEhig
DTSTART;VALUE=DATE:20150718
DTEND;VALUE=DATE:20150719
CLASS:PUBLIC
CREATED:20150709T000511
DESCRIPTION: From 1-6PM. We're a monthly meetup group that helps people new
  to JavaScript\, Node.js\, or programming in general get comfortable with 
 self directed lessons. Our meetups are group learning experiences\, where 
 people of all skill levels come together to strengthen their understanding
  of JavaScript. \n
LAST-MODIFIED:20150717T221759
LOCATION:200 Frank H. Ogawa Plaza\, 5th Floor Oakland\, CA 94612
ORGANIZER:mailto:the.kaempfer@gmail.com
SUMMARY:NodeSchool Oakland @ NPM
URL;VALUE=URI:https://ti.to/nodeschool-oakland/july-at-npm
URL;VALUE=URI:https://ti.to/nodeschool-oakland/july-at-npm
END:VEVENT
END:VCALENDAR
