BEGIN:VCALENDAR
VERSION:2.0
PRODID:icalendar-ruby
CALSCALE:GREGORIAN
BEGIN:VEVENT
DTSTAMP:20260425T180902Z
UID:PHe8Nw
DTSTART;VALUE=DATE:20170506
DTEND;VALUE=DATE:20170507
CLASS:PUBLIC
CREATED:20170413T080009
DESCRIPTION: Learn Coding \n\n Join us and learn coding with us. You are go
 ing to learn the basics of JavaScript\, Node.js\, and other awesome techno
 logies. It's a plus if you know some JavaScript beforehand\, but if not we
  can help you out. \n\n Self Guided \n\n You will go through a set of self
 -paced challenges. No boring talks. All challenges are Open Source and ava
 ilable online on http://nodeschool.io. This means you can continue learnin
 g after the event. \n\n Time \n\n 2pm - 5pm \n\n Location \n\n Codesmith\n
 5300 Beethoven St\nLos Angeles\, CA 90066 \n
LAST-MODIFIED:20170511T095601
LOCATION:Codesmith\, 5300 Beethoven St\, Los Angeles\, CA 90066
ORGANIZER:mailto:noreply-calendar@tito.io
SUMMARY:NodeSchool LA:  May 6\, 2017
URL;VALUE=URI:https://ti.to/nodeschool-los-angeles/may-2017
URL;VALUE=URI:https://ti.to/nodeschool-los-angeles/may-2017
END:VEVENT
END:VCALENDAR
