BEGIN:VCALENDAR
VERSION:2.0
PRODID:icalendar-ruby
CALSCALE:GREGORIAN
BEGIN:VEVENT
DTSTAMP:20260423T054236Z
UID:jlmfVQ
DTSTART;VALUE=DATE:20160521
DTEND;VALUE=DATE:20160522
CLASS:PUBLIC
CREATED:20151024T131946
DESCRIPTION: Català \n\n Barcelona NodeSchool és part de l'esforç global
  anomenat NodeSchool que ensenya voluntàriament Node.js a tothom! El codi
  font pels tallers és completament de codi obert i l'esforç es totalment
  dirigit per la comunitat. La millor part és\, que és totalment gratuït
 ! \n\n \n\n English \n\n Barcelona NodeSchool is part of the global NodeSc
 hool effort to voluntarily teach Node.js to anyone! The source code for th
 e workshops is completely open source and the effort is entirely community
  driven. And the best part is\, it's all free! \n\n \n\n Castellano \n\n B
 arcelona NodeSchool es parte del esfuerzo global de NodeSchool de enseñar
  Node.js de manera voluntaria a quen quiera. El código fuente del taller 
 es completamente libre y el esfuerzo está completamente gestionado de man
 era comunitaria. Y lo mejor de todo\, ¡es completamente gratis! \n\n ||||
 |\n|---|---|---|---|\n|10.45|Registre i cafè|Registration &amp\; Coffee|R
 egistro y café|\n|11.00|Inici de l'event|Event Starts|Inicio del evento|\
 n|15.00||Social and beers sponsored by SkyLab Coders Academy||\n|17.00|Fin
 al oficial|Official End|Final oficial| \n\n Skylab Coders Academy is happy
  to host the event and make development skills available for everyone. \n
LAST-MODIFIED:20160520T082518
LOCATION:SkyLab Coders Academy
ORGANIZER:mailto:nodeschool@barcelonajs.org
SUMMARY:NodeSchool International Day
URL;VALUE=URI:https://ti.to/nodeschool-barcelona/nodeschool-international-d
 ay
URL;VALUE=URI:https://ti.to/nodeschool-barcelona/nodeschool-international-d
 ay
END:VEVENT
END:VCALENDAR
