BEGIN:VCALENDAR
VERSION:2.0
PRODID:icalendar-ruby
CALSCALE:GREGORIAN
BEGIN:VTIMEZONE
TZID:Europe/Dublin
BEGIN:DAYLIGHT
DTSTART:20251026T010000
TZOFFSETFROM:+0100
TZOFFSETTO:+0000
RRULE:FREQ=YEARLY;BYDAY=-1SU;BYMONTH=10
TZNAME:GMT
END:DAYLIGHT
BEGIN:STANDARD
DTSTART:20260329T020000
TZOFFSETFROM:+0000
TZOFFSETTO:+0100
RRULE:FREQ=YEARLY;BYDAY=-1SU;BYMONTH=3
TZNAME:IST
END:STANDARD
END:VTIMEZONE
BEGIN:VEVENT
DTSTAMP:20260421T223922Z
UID:VbkBZg
DTSTART;TZID=Europe/Dublin:20251108T081000
DTEND;TZID=Europe/Dublin:20251108T180000
CLASS:PUBLIC
CREATED:20250608T114740
DESCRIPTION: Event of the year for the tech community! \n\n Join in on Satu
 rday\, 8th November at ICC Belfast. \n\n NIDC has brought Northern Ireland
 's tech community together every year since 2017.\nThe conference gathers 
 enthusiasts\, practitioners and those with a passing interest across the d
 iverse disciplines of our industry from software\, product\, cloud\, data\
 , UX\, games\, infrastructure\, open source\, security\, hardware\, testin
 g\, design\, AI\, and everything in between. \n\n Come on down\, and bring
  along your friends\, family\, and colleagues! All are welcome. \n\n Get t
 he full details on our website www.nidevconf.com. \n\n 🗓️ Dates \n\n 
 \n Conference: Saturday\, 8th November 2025 \n \n\n 🎟️ Tickets \n\n T
 hanks to our sponsors all tickets are supplemented/discounted to make the 
 conference financially accessible for everyone. \n\n \n 30th June\, 10am 
 🐣 early bird tickets released \n 1st August\, 10am 🐥 more early-ish 
 bird tickets \n 22nd September\, 10am 🦢 final tickets released + agenda
  announcement \n \n\n If you are a carer coming along with an attendee\, u
 se the discount code CARER for a 100% discount on your ticket. \n\n 💬 C
 hat \n\n Can't wait? Have a question? Join our Discord and ask in our FAQ 
 channel\, or email organisers@nidevconf.com. \n\n 🙌 Get involved! \n\n 
 \n Volunteer \n Speak at the conference \n Run an activity at the conferen
 ce \n Become a sponsor &amp\; support the tech community (sponsors@nidevco
 nf.com) \n \n
LAST-MODIFIED:20251109T211511
LOCATION:Belfast\, Northern Ireland
ORGANIZER:mailto:organisers@nidevconf.com
SUMMARY:NIDC 2025
URL;VALUE=URI:https://ti.to/nidc/nidc2025
URL;VALUE=URI:https://ti.to/nidc/nidc2025
END:VEVENT
END:VCALENDAR
