BEGIN:VCALENDAR
VERSION:2.0
PRODID:icalendar-ruby
CALSCALE:GREGORIAN
BEGIN:VEVENT
DTSTAMP:20260421T224045Z
UID:Ut5hwg
DTSTART;VALUE=DATE:20190608
DTEND;VALUE=DATE:20190609
CLASS:PUBLIC
CREATED:20190213T212856
DESCRIPTION: Early Bird - £25 / £10 concession \n\n Standard price - £45
  / £15 concession \n\n Children and carers - Free but child tickets must 
 be booked by Friday 10th May \n\n Concessionary prices are for students\, 
 unwaged etc. \n\n See our website at www.nidevconf.com for more informatio
 n \n
LAST-MODIFIED:20250812T212440
LOCATION:Belfast\, Northern Ireland
ORGANIZER:mailto:inbox@nidevconf.com
SUMMARY:Northern Ireland Developer Conference 2019
URL;VALUE=URI:https://ti.to/nidc/nidc2019
URL;VALUE=URI:https://ti.to/nidc/nidc2019
END:VEVENT
END:VCALENDAR
