BEGIN:VCALENDAR
VERSION:2.0
PRODID:icalendar-ruby
CALSCALE:GREGORIAN
BEGIN:VEVENT
DTSTAMP:20260423T043829Z
UID:6DlnbQ
DTSTART;VALUE=DATE:20250924
DTEND;VALUE=DATE:20250927
CLASS:PUBLIC
CREATED:20250410T013514
DESCRIPTION: Are you struggling to maintain and enhance your existing Angul
 ar applications? Do you want to harness the power of NgRx for state manage
 ment and explore the cutting-edge features in Angular? Join us for in-dept
 h workshops that will empower you to architect and modernize your apps wit
 h confidence! \n\n  \nWorkshop Overview: \n\n In the ever-evolving world o
 f web development\, staying ahead is crucial. This workshop offers a hands
 -on approach to mastering architecture and state management in Angular app
 lications using both traditional NgRx patterns and the newer Signal-based 
 approach. It is designed for developers\, architects\, and teams who want 
 to revamp their existing Angular applications and leverage the latest adva
 ncements in Angular and NgRx ecosystems. \n\n  \nKey Workshop Highlights: 
 \n\n \n Architectural Excellence: Learn the art of crafting scalable\, mai
 ntainable\, and robust Angular applications. We'll delve deep into archite
 ctural patterns\, best practices\, and tools to structure your apps for su
 ccess. \n Global NgRx Store: Master the powerful state management solution
  for complex Angular applications. Explore actions\, reducers\, effects\, 
 and selectors to create a robust global state architecture that scales wit
 h your application needs. \n Angular Signals Mastery: Gain an in-depth und
 erstanding of Angular's powerful reactivity system. Learn how to leverage 
 Signals to create efficient applications while maintaining clean\, readabl
 e code\, and optimal performance. \n NgRx SignalStore: Explore the fastest
 -growing state management solution in the Angular ecosystem. From foundati
 onal concepts to advanced techniques\, learn how to leverage SignalStore's
  robust and extensible design to efficiently manage application state. \n 
 State Management Patterns: Understand the distinctions between local and g
 lobal state as a prerequisite for developing well-designed applications th
 at are easy to maintain and scale. \n \n\n  \nAgenda: \n\n Day 1: Global N
 gRx Store Foundation \n\n \n Introduction to State Management and Redux Ar
 chitecture \n Building Blocks: Actions\, Reducers\, and Selectors \n Moder
 n NgRx: Action Group and Feature Creators \n Effects Management: Functiona
 l and Class-Based Approach \n Enhancing DX: Leveraging Devtools\, Router S
 tore\, and Entities \n \n\n Day 2: Signals and SignalStore Essentials \n\n
  \n Angular Signals: Core Concepts and Benefits \n Signal Extensions: Deep
  Signals and SignalState \n State Manipulation: Building Custom Updaters \
 n Bridging Worlds: RxJS Integration with Signals \n SignalStore Fundamenta
 ls: Key Principles and Patterns \n \n\n Day 3: Advanced SignalStore Techni
 ques \n\n \n Building Custom SignalStore Features \n Collection Management
  with Entities Plugin \n Local and Global State Management Patterns \n Han
 dling Complex Workflows with Events Plugin \n SignalStore Testing Strategi
 es \n \n\n  \n \nALL SALES ARE FINAL \n\n  \nStart time is 8 AM (PT) / 11 
 AM (ET) \n\n Interested in Europe-friendly time? Check out other workshops
  at https://ngrx.io/workshops \n
LAST-MODIFIED:20250927T001805
LOCATION:online
ORGANIZER:mailto:marko@ngrx.io
SUMMARY:Enterprise Angular Architecture with NgRx and Signals | September 2
 4-26 (US Time)
URL;VALUE=URI:https://ti.to/ngrx/workshop-september-2025
URL;VALUE=URI:https://ti.to/ngrx/workshop-september-2025
END:VEVENT
END:VCALENDAR
