BEGIN:VCALENDAR
VERSION:2.0
PRODID:icalendar-ruby
CALSCALE:GREGORIAN
BEGIN:VTIMEZONE
TZID:Europe/Brussels
BEGIN:DAYLIGHT
DTSTART:20250330T030000
TZOFFSETFROM:+0100
TZOFFSETTO:+0200
RRULE:FREQ=YEARLY;BYDAY=-1SU;BYMONTH=3
TZNAME:CEST
END:DAYLIGHT
BEGIN:STANDARD
DTSTART:20251026T020000
TZOFFSETFROM:+0200
TZOFFSETTO:+0100
RRULE:FREQ=YEARLY;BYDAY=-1SU;BYMONTH=10
TZNAME:CET
END:STANDARD
END:VTIMEZONE
BEGIN:VEVENT
DTSTAMP:20260422T135734Z
UID:bjjtXA
DTSTART;TZID=Europe/Brussels:20250619T093000
DTEND;TZID=Europe/Brussels:20250620T163000
CLASS:PUBLIC
CREATED:20250214T094932
DESCRIPTION: The Next Generation Internet (NGI) initiative continues to evo
 lve\, building on past successes while addressing new challenges in Europe
 ’s digital landscape. As emerging technologies reshape the way we intera
 ct online\, NGI remains committed to ensuring that the Internet of the fut
 ure is open\, inclusive\, trustworthy\, and sustainable. \n\n The NGI Foru
 m 2025 will focus on the building of an Open Internet Stack as conducive t
 o European digital sovereignty and users’ empowerment. It will serve as 
 a key platform to bring together innovators\, policymakers\, researchers\,
  and industry leaders. The Forum will provide an opportunity to reflect on
  major developments in digital sovereignty\, open internet infrastructure\
 , and digital commons\, while fostering collaboration between diverse stak
 eholders shaping Europe’s digital future. \n\n The NGI Forum 2025 is the
  flagship event of the European Commission’s Next Generation Internet (N
 GI) initiative. It brings together some of Europe’s top Internet innovat
 ors at work to build an Internet of Trust\, empowering end-users with more
  choice and control over their data and digital identity. \n
LAST-MODIFIED:20250610T155710
LOCATION:Albert Borschette Congress Center\, Brussels\, Belgium
ORGANIZER:mailto:info@ngi.eu
SUMMARY:Next Generation Internet Forum 2025
URL;VALUE=URI:https://ti.to/ngi/ngi-forum-2025
URL;VALUE=URI:https://ti.to/ngi/ngi-forum-2025
END:VEVENT
END:VCALENDAR
