BEGIN:VCALENDAR
VERSION:2.0
PRODID:icalendar-ruby
CALSCALE:GREGORIAN
BEGIN:VTIMEZONE
TZID:Europe/Brussels
BEGIN:DAYLIGHT
DTSTART:20250330T030000
TZOFFSETFROM:+0100
TZOFFSETTO:+0200
RRULE:FREQ=YEARLY;BYDAY=-1SU;BYMONTH=3
TZNAME:CEST
END:DAYLIGHT
BEGIN:STANDARD
DTSTART:20251026T020000
TZOFFSETFROM:+0200
TZOFFSETTO:+0100
RRULE:FREQ=YEARLY;BYDAY=-1SU;BYMONTH=10
TZNAME:CET
END:STANDARD
END:VTIMEZONE
BEGIN:VEVENT
DTSTAMP:20260421T083336Z
UID:SGIc8w
DTSTART;TZID=Europe/Brussels:20250416T110000
DTEND;TZID=Europe/Brussels:20250416T123000
CLASS:PUBLIC
CREATED:20241204T152915
DESCRIPTION: SESSION 11: GDPR made simple \n\n GDPR has totally disrupted t
 he Web\, guaranteeing users’ rights over their private data\, and forcin
 g organisations dealing with such personal data to respect strict principl
 es and rules. Many organisations believe that they know what the GDPR is\,
  and that they are compliant with it. However\, they are often mistaken.\n
 GDPR is indeed a complex and subtle legal topic made up of 99 articles tha
 t are almost impossible for the average person to fully understand.\nThe N
 GI Outreach Office offers you a very clear\, synthesised and comprehensive
  training session which will enable you to know if you have already done t
 hings well\, or if you need to do even better. \n
LAST-MODIFIED:20241205T165617
LOCATION:Online event
ORGANIZER:mailto:info@ngi.eu
SUMMARY:NGI Communication Training: GDPR made simple
URL;VALUE=URI:https://ti.to/ngi/gdpr-made-simple-2025
URL;VALUE=URI:https://ti.to/ngi/gdpr-made-simple-2025
END:VEVENT
END:VCALENDAR
