BEGIN:VCALENDAR
VERSION:2.0
PRODID:icalendar-ruby
CALSCALE:GREGORIAN
BEGIN:VEVENT
DTSTAMP:20260420T053249Z
UID:a3RxXg
DTSTART;VALUE=DATE:20231207
DTEND;VALUE=DATE:20231208
CLASS:PUBLIC
CREATED:20231109T104218
DESCRIPTION: 🎉 You're Invited: Angular 17 Release Celebration! 🚀  \
 n\n Get ready for an unforgettable evening at the Angular 17 Release After
  Party! It's not just a party\; it's a deep-dive into the latest and great
 est of Angular with Kristiyan Kostadinov! 🌟  \n\n Think of this as ou
 r festive Julefrokost\, but with an Angular twist. There will be Angular t
 alk\, quizzes\, laughter\, and the ance to win some ultra-exclusive Angula
 r swag that's just waiting to be claimed! 🎁   \n\n Mark your calend
 ars for a not-to-be-missed night of code\, community\, and celebration! 
 🌟 \n\n \n 5:30 PM - Doors Open \n 6:00 PM - A Warm Welcome: Kickstart t
 he celebration \n 6:15 PM - Speaker Session: Kristiyan unveils Angular 17 
 secrets \n 7:00 PM - Group photo \n 7:05 PM - Feast &amp\; Fun: Savor deli
 cious bites\, refreshing drinks\, and mingle with fellow community members
  over quizzes and chats \n 8:00 PM - Farewell For Now! \n \n
LAST-MODIFIED:20231207T132049
LOCATION:Matrikel1
ORGANIZER:mailto:noreply-calendar@tito.io
SUMMARY:Angular 17 Release Celebration!
URL;VALUE=URI:https://ti.to/ngcopenhagen/angular-17-release-celebration
URL;VALUE=URI:https://ti.to/ngcopenhagen/angular-17-release-celebration
END:VEVENT
END:VCALENDAR
