BEGIN:VCALENDAR
VERSION:2.0
PRODID:icalendar-ruby
CALSCALE:GREGORIAN
BEGIN:VEVENT
DTSTAMP:20260425T180734Z
UID:KiEG5A
DTSTART;VALUE=DATE:20180130
DTEND;VALUE=DATE:20180203
CLASS:PUBLIC
CREATED:20170504T010835
LAST-MODIFIED:20180902T002856
LOCATION:Alpharetta\, Georgia
ORGANIZER:mailto:info@ng-atl.org
SUMMARY:ngAtl 2018
URL;VALUE=URI:https://ti.to/ngatlconf/ngatl-2018
URL;VALUE=URI:https://ti.to/ngatlconf/ngatl-2018
END:VEVENT
END:VCALENDAR
