BEGIN:VCALENDAR
VERSION:2.0
PRODID:icalendar-ruby
CALSCALE:GREGORIAN
BEGIN:VEVENT
DTSTAMP:20260426T002301Z
UID:1VHqRA
DTSTART;VALUE=DATE:20190706
DTEND;VALUE=DATE:20190708
CLASS:PUBLIC
CREATED:20190210T125639
DESCRIPTION: 📅  2 days conference \n\n 🎤 30+ speakers (speaker list h
 ere) \n\n 👫 350+ attendees \n\n 📜 2 tracks \n\n 🤩  1st Angular Co
 nference in Southeast Asia! 🤩 \n\n \n\n #ngMY2019 is a labour-of-love\,
  2 days conference dedicated to learning and mastering Angular. With over 
 30 speakers from around the world\, this event will gather 380+ developers
  regionally.  \n\n Nothing fuels collaboration like meetings in real life!
  \n\n \n\n NO REFUNDS \n\n TICKETS ARE TRANSFERABLE \n\n ALL SALES ARE FIN
 AL \n\n \n\n Tickets and Pricing \n\n We have 2 types of tickets. Conferen
 ce ticket &amp\; Conference ticket + RM 50 Scholarship support. \n\n Schol
 arship support is like conference ticket plus you're directly funding NG-M
 Y Scholars to make the event more attainable for specially talented\, invo
 lved and groups underrepresented in our community. \n\n We support scholar
 ship - we cover for flights / buses\, accommodations\, conference tickets.
  Scholarship application is closed\, follow our social media for updates! 
  \n\n | Name                  | Conference Ticket | Conference Ticket +  R
 M 50 Scholarship support |\n|-----------------------|-------------------|-
 -----------------------------------------------|\n| Early bird (Limited)  
   | RM 198            | RM 248                                         |\n
 | Standard (Mar -Apr)      | RM 238            | RM 288                   
                       |\n| Late bird (May)       | RM 278            | RM 
 328                                         |\n| Late late bird (Jun) | RM
  318            | RM 368                                         | \n\n Al
 l tickets and price-points are only available in limited quantities. \n\n 
 \n\n Find more information at ng-my.org. \n\n Join our mailing list! \n\n 
 Contact us at hello.ng.my@gmail.com if you have any queries. \n\n We adher
 e to our Code of Conduct. \n\n \n\n *Popular credit cards are supported - 
 e.g. Visa\, Mastercard. For AMEX card\, it might not be supported. Try you
 r luck if you are using AMEX else please use Visa or Mastercard. \n
LAST-MODIFIED:20191203T121317
LOCATION:Sunway University\, Malaysia
ORGANIZER:mailto:hello.ng.my@gmail.com
SUMMARY:NG-MY 2019 Conference
URL;VALUE=URI:https://ti.to/ng-my/ng-my-2019
URL;VALUE=URI:https://ti.to/ng-my/ng-my-2019
END:VEVENT
END:VCALENDAR
