BEGIN:VCALENDAR
VERSION:2.0
PRODID:icalendar-ruby
CALSCALE:GREGORIAN
BEGIN:VEVENT
DTSTAMP:20260419T161856Z
UID:T7Qlkw
DTSTART;VALUE=DATE:20221005
DTEND;VALUE=DATE:20221008
CLASS:PUBLIC
CREATED:20220127T192817
DESCRIPTION: For the community\, by the community \n\n NG-DE and VueJS.DE C
 onf are community-driven conferences in Germany.\nBoth frameworks have a h
 uge community focus and similar concepts so we provide a platform for thes
 e together. \n\n Both conferences will take place in Berlin\, in October 2
 022. \n\n The venue BOLLE FESTSÄLE is located next to the beautiful Spree
  river\, close to Bellevue palace and Tiergarten. A bunch of one-day works
 hops are planned which can be booked separately from the main event. \n\n 
 By buying a ticket you accept the code of conduct. \n
LAST-MODIFIED:20240304T114801
LOCATION:Berlin\, Germany
ORGANIZER:mailto:info@ng-de.org
SUMMARY:NG-DE & vuejs.de Conf 2022
URL;VALUE=URI:https://ti.to/ng-de/vuejsde-conf-2022
URL;VALUE=URI:https://ti.to/ng-de/vuejsde-conf-2022
END:VEVENT
END:VCALENDAR
