BEGIN:VCALENDAR
VERSION:2.0
PRODID:icalendar-ruby
CALSCALE:GREGORIAN
BEGIN:VEVENT
DTSTAMP:20260420T084104Z
UID:X6qK7g
DTSTART;VALUE=DATE:20221005
DTEND;VALUE=DATE:20221006
CLASS:PUBLIC
CREATED:20220419T132457
DESCRIPTION: For the community\, by the community\nNG-DE is the first commu
 nity-driven Angular conference in Germany.\nCooperating with vuejs.de Conf
  we will bring another great conference to you about Vue.js\nBoth conferen
 ces will take place in Berlin\, in October 2022. \n\n The venue BOLLE FEST
 SÄLE is located next to the beautiful Spree river\, close to Bellevue pal
 ace and Tiergarten. A bunch of one-day workshops are planned which can be 
 booked separately from the main event. \n\n By buying a ticket you accept 
 the code of conduct: https://ng-de.org/code-of-conduct/ \n
LAST-MODIFIED:20221006T124600
LOCATION:Berlin\, Germany
ORGANIZER:mailto:info@ng-de.org
SUMMARY:NG-DE 2022 Workshop Day
URL;VALUE=URI:https://ti.to/ng-de/ng-de-vuejsde-conf-2022-workshop-day
URL;VALUE=URI:https://ti.to/ng-de/ng-de-vuejsde-conf-2022-workshop-day
END:VEVENT
END:VCALENDAR
