BEGIN:VCALENDAR
VERSION:2.0
PRODID:icalendar-ruby
CALSCALE:GREGORIAN
BEGIN:VTIMEZONE
TZID:America/Denver
BEGIN:DAYLIGHT
DTSTART:20190310T030000
TZOFFSETFROM:-0700
TZOFFSETTO:-0600
RRULE:FREQ=YEARLY;BYDAY=2SU;BYMONTH=3
TZNAME:MDT
END:DAYLIGHT
BEGIN:STANDARD
DTSTART:20191103T010000
TZOFFSETFROM:-0600
TZOFFSETTO:-0700
RRULE:FREQ=YEARLY;BYDAY=1SU;BYMONTH=11
TZNAME:MST
END:STANDARD
END:VTIMEZONE
BEGIN:VEVENT
DTSTAMP:20260421T175203Z
UID:X3xLdA
DTSTART;VALUE=DATE:20190501
DTEND;VALUE=DATE:20190504
CLASS:PUBLIC
CREATED:20181030T102252
DESCRIPTION: A summary of all available workshops is on our website. \n\n n
 g-conf 2019 is coming\, and it’s going to be out of this world! \n\n ng-
 conf 2019 will be the Angular event of the year! As always this event will
  be focused on teaching\, educating\, and elevating each of the Angular de
 velopers in attendance. Always up to date\, we will have sessions about th
 e latest version of Angular and related technologies. Whether you are a be
 ginner\, intermediate\, or expert\, this will be the best opportunity we h
 ave ever provided. A conference ticket includes three days of intense sess
 ions\, short workshops\, and non-stop network opportunities. Our two days 
 of optional pre-conference workshops will take your Angular skills into th
 e stratosphere\, but they do require a separate ticket. Can't wait to see 
 you there! \n\n __________________________________________________________
  \n\n NO REFUNDS- TICKETS ARE TRANSFERABLE  \n\n ALL SALES ARE FINAL \n\n 
 __________________________________________________________ \n\n Please not
 e: Late Bird Tickets (tickets purchased after March 1\, 2019) will not be 
 guaranteed to receive swag! \n\n Book your hotel room at the Grand America
 \, so you don't miss any of the excitement! \n\n Find more information at 
 ng-conf.org \n\n Join our mailing list! \n
LAST-MODIFIED:20260224T221826
LOCATION:Salt Lake City\, UT
ORGANIZER:mailto:info@ng-conf.org
SUMMARY:ng-conf
URL;VALUE=URI:https://ti.to/ng-conf/2019
URL;VALUE=URI:https://ti.to/ng-conf/2019
END:VEVENT
END:VCALENDAR
