BEGIN:VCALENDAR
VERSION:2.0
PRODID:icalendar-ruby
CALSCALE:GREGORIAN
BEGIN:VTIMEZONE
TZID:Europe/Brussels
BEGIN:DAYLIGHT
DTSTART:20240331T030000
TZOFFSETFROM:+0100
TZOFFSETTO:+0200
RRULE:FREQ=YEARLY;BYDAY=-1SU;BYMONTH=3
TZNAME:CEST
END:DAYLIGHT
BEGIN:STANDARD
DTSTART:20241027T020000
TZOFFSETFROM:+0200
TZOFFSETTO:+0100
RRULE:FREQ=YEARLY;BYDAY=-1SU;BYMONTH=10
TZNAME:CET
END:STANDARD
END:VTIMEZONE
BEGIN:VEVENT
DTSTAMP:20260422T053517Z
UID:WqdNWA
DTSTART;VALUE=DATE:20240919
DTEND;VALUE=DATE:20240921
CLASS:PUBLIC
CREATED:20240704T125425
DESCRIPTION: Building a European Edge-Cloud: From Theory to Action \n\n  \n
 Join us at the NexusForum2024 Summit\, taking place in Brussels\, Belgium\
 , on September 19 and 20\, at AREA42. \n\n The summit aims to create a dyn
 amic platform for discussing the latest advancements\, strategic prioritie
 s\, and challenges in the cloud-edge-IoT ecosystem. Participants will have
  the opportunity to engage in high-level dialogue\, form strategic partner
 ships\, and contribute to shaping the future of cognitive computing. \n\n 
 The NexusForum Project aims to boost the consolidation of the European Com
 puting Continuum ecosystem building on the valuable activities and impact 
 generated so far by within the existing EUCloudEdgeIoT Ecosystem\, as well
  as will provide a forward-looking and bold vision in new areas and direct
 ions that have not been explored so far. The project will bring together i
 ndustry leaders\, researchers\, policymakers\, and other key stakeholders 
 to drive technological advancements and ensure Europe’s leadership in th
 e digital landscape. \n
LAST-MODIFIED:20240916T154155
LOCATION:AREA42 | Bruxelles\, Belgium
ORGANIZER:mailto:hello.nexusforum@ri.se
SUMMARY:NexusForum2024 Summit
URL;VALUE=URI:https://ti.to/nexusforumeu/nexusforum2024-summit
URL;VALUE=URI:https://ti.to/nexusforumeu/nexusforum2024-summit
END:VEVENT
END:VCALENDAR
