BEGIN:VCALENDAR
VERSION:2.0
PRODID:icalendar-ruby
CALSCALE:GREGORIAN
BEGIN:VEVENT
DTSTAMP:20260423T211905Z
UID:Ychdkg
DTSTART;VALUE=DATE:20240908
DTEND;VALUE=DATE:20240909
CLASS:PUBLIC
CREATED:20231129T105645
DESCRIPTION: The AJ Bell Great North Run is the world’s biggest half mara
 thon\, with 60\,000 runners taking on the route from Newcastle to South Sh
 ields each year. It’s famous for its inclusive atmosphere\, unbeatable o
 n-route entertainment\, and warm Geordie welcome\, not to mention the mill
 ions raised each year for worthy causes. From the rush of the Red Arrows f
 lying overhead to the oggy-oggy-oggy chants\, Great North Run magic can be
  hard to understand – until you’ve experienced it for yourself. \n\n Y
 ou’re guaranteed a run like no other – a finish line feeling you’ll 
 never forget.  \n\n You can beat the ballot and guarantee your place in th
 e Great North Run 2024 by registering for charity place with Newlife the C
 harity for Disabled Children today. \n
LAST-MODIFIED:20231212T102856
LOCATION:Newcastle upon Tyne
ORGANIZER:mailto:fundraise@newlifecharity.co.uk
SUMMARY:Great North Run 2024 Charity place for Newlife the Charity for Disa
 bled Children
URL;VALUE=URI:https://ti.to/newlife-charity/great-north-run-2024
URL;VALUE=URI:https://ti.to/newlife-charity/great-north-run-2024
END:VEVENT
END:VCALENDAR
