BEGIN:VCALENDAR
VERSION:2.0
PRODID:icalendar-ruby
CALSCALE:GREGORIAN
BEGIN:VTIMEZONE
TZID:America/Los_Angeles
BEGIN:DAYLIGHT
DTSTART:20220313T030000
TZOFFSETFROM:-0800
TZOFFSETTO:-0700
RRULE:FREQ=YEARLY;BYDAY=2SU;BYMONTH=3
TZNAME:PDT
END:DAYLIGHT
BEGIN:STANDARD
DTSTART:20221106T010000
TZOFFSETFROM:-0700
TZOFFSETTO:-0800
RRULE:FREQ=YEARLY;BYDAY=1SU;BYMONTH=11
TZNAME:PST
END:STANDARD
END:VTIMEZONE
BEGIN:VEVENT
DTSTAMP:20260421T112953Z
UID:ilL3XA
DTSTART;VALUE=DATE:20220914
DTEND;VALUE=DATE:20220915
CLASS:PUBLIC
CREATED:20220712T173537
DESCRIPTION: Join us on September 14th from 5-7 pm for New Tech Seattle's n
 ext meet-up. \n\n New Tech is the Northwest's largest tech community. We'r
 e the place where you make meaningful connections\, learn from the industr
 y's best\, and have a fun night out. Most importantly\, you'll join an eng
 aging group of go-getters\, developers\, founders\, and professionals\, an
 d discover the people\, partners\, organizations\, and resources to help y
 ou build your dreams. \n\n September Presenters\nFounders\, leaders &amp\;
  innovators share their passion &amp\; new tech through 5-minute presentat
 ions &amp\; 3 minutes of your Q&amp\;A. \n\n \n Olaoluwa Adesanya\, Founde
 r &amp\; CEO Palmplug \n Hayk Tadevosyan\, author of The Power of Mindset 
 \n Maria Petrova\, AWS Skills Center Lead \n Jhansi Reddy\, Microsoft \n \
 n\n The Crowd\nThe Northwest’s smart\, fun\, creative\, innovative tech 
 community – software and application developers\, company owners\, start
 up founders\, recruiters\, hackers\, job seekers\, executives\, investors\
 , community leaders\, and people who are new to the area. \n\n The Format\
 nConnecting &gt\; community building &gt\; community shoutouts &gt\; spons
 or shoutouts &gt\; presentations &gt\; afterparty \n\n The Vibe\nNeighborh
 ood block party – fun\, friendly &amp\; relaxed with complimentary food 
 &amp\; drinks. You’ll laugh\, smile\, and have a fun night out. \n\n The
  Experience\nDiscover innovative\, creative and inspirational new technolo
 gy (or smarter use of old tech). It could be VR\, IoT\, Apps\, Fintech\, M
 obiletech\, Healthtech\, Cloudtech… you get the idea. \n\n Agenda\n5:00p
 m - Neighborhood block party style networking with appetizers\, beverages 
 &amp\; a cash bar\n6:00pm - Welcome! Time to start the show\n6:05pm - Spon
 sor Shoutouts\n6:10pm - Community Connections\; quick shares with your nei
 ghbors\n6:15pm - Community Shoutouts\; quick shares of cool events\, resou
 rces &amp\; meet new Seattleites\n6:25pm - Presentations of cool tech &amp
 \; innovations\n7:10pm - Thank you &amp\; goodnight\, …or\n7:15pm - Afte
 rparty in The Collective's High Tide community space \n\n The After Party\
 nContinue connecting to fantastic people in our community after the show e
 nds around 7:15 pm. \n\n The Tickets\n$10 before the event and $20 when pu
 rchased the day of the event. \n\n Thank You to Our Sponsors! \n\n Pilot \
 n\n Tombolo Institute \n\n City University of Seattle \n\n Covid Protocols
 \n*The venue has a HEPA filter system and very high ceilings for good air 
 filtration.\nGuidelines for attending guests: \n\n \n All guests attest to
  being fully vaccinated. \n Present a physical or digital vaccine card. \n
  Temperature checks administered at check-in\, and those experiencing feve
 r will not be admitted. \n Masks to be worn unless eating or drinking. \n 
 \n\n New Tech Northwest continues to monitor the evolving COVID landscape.
  We will make a final decision and send notifications of cancellation 48 h
 ours prior to the event. In the event of cancellation\, all registered att
 endees will receive discount code for 2 free future New Tech Events. \n\n 
 Parking\nThere is a parking garage below The Collective and street parking
  around the area at your own expense. If you decide to park in the parking
  garage\, the entrance is at the back of the building along a back alley. 
 It's a one-way street\, enter the alley from Harrison Street. \n\n By regi
 stering for a New Tech Northwest event\, you agree to our Code of Conduct 
 Policy. \n
LAST-MODIFIED:20220914T163501
LOCATION:The Collective\, 400 Dexter Ave N\, Seattle\, WA 98109
ORGANIZER:mailto:social@newtechnorthwest.com
SUMMARY:New Tech Seattle September 2022 Meetup
URL;VALUE=URI:https://ti.to/new-tech-nw/new-tech-seattle-september-2022
URL;VALUE=URI:https://ti.to/new-tech-nw/new-tech-seattle-september-2022
END:VEVENT
BEGIN:VEVENT
DTSTAMP:20260421T112953Z
UID:ilL3XA1047799
DTSTART;TZID=America/Los_Angeles:20220914T170000
DTEND;TZID=America/Los_Angeles:20220914T191500
CLASS:PUBLIC
CREATED:20220712T173538
DESCRIPTION:The event begins with cocktails and networking at 5 pm
LAST-MODIFIED:20220724T175316
ORGANIZER:mailto:social@newtechnorthwest.com
SUMMARY:[New Tech Seattle September 2022 Meetup] New Tech Seattle Event Beg
 ins
URL;VALUE=URI:https://ti.to/new-tech-nw/new-tech-seattle-september-2022
X-ALT-DESC;FMTTYPE=text/html:The event begins with cocktails and networking
  at 5 pm
URL;VALUE=URI:https://ti.to/new-tech-nw/new-tech-seattle-september-2022
END:VEVENT
END:VCALENDAR
