BEGIN:VCALENDAR
VERSION:2.0
PRODID:icalendar-ruby
CALSCALE:GREGORIAN
BEGIN:VTIMEZONE
TZID:America/Los_Angeles
BEGIN:DAYLIGHT
DTSTART:20240310T030000
TZOFFSETFROM:-0800
TZOFFSETTO:-0700
RRULE:FREQ=YEARLY;BYDAY=2SU;BYMONTH=3
TZNAME:PDT
END:DAYLIGHT
BEGIN:STANDARD
DTSTART:20231105T010000
TZOFFSETFROM:-0700
TZOFFSETTO:-0800
RRULE:FREQ=YEARLY;BYDAY=1SU;BYMONTH=11
TZNAME:PST
END:STANDARD
END:VTIMEZONE
BEGIN:VEVENT
DTSTAMP:20260419T211053Z
UID:FgWxEQ
DTSTART;VALUE=DATE:20231109
DTEND;VALUE=DATE:20231110
CLASS:PUBLIC
CREATED:20231012T072304
DESCRIPTION: Join us on Thursday\, November 9th from 5-7 pm for New Tech Se
 attle's next meet-up. \n\n New Tech is the Northwest's largest tech commun
 ity. We're the place where you make meaningful connections\, learn from th
 e industry's best\, and have a fun night out. Most importantly\, you'll jo
 in an engaging group of go-getters\, developers\, founders\, and professio
 nals\, and discover the people\, partners\, organizations\, and resources 
 to help you build your dreams.  Enjoy hosted beer\, wine and light appetiz
 ers while you mingle with your peers. \n\n November Presenters\nFounders\,
  leaders &amp\; innovators share their passion &amp\; new tech through 8-m
 inute presentations &amp\; 3 minutes of your Q&amp\;A. \n\n \n Madin Akpo-
 Esambe\, Co-Founder\, Trava - AI for travel planning \n Larry Arnstein\, C
 TO &amp\; Co-Founder\, Simply Augmented - Successful adoption patterns for
  Generative AI \n \n\n  \nThe Crowd\nThe Northwest’s smart\, fun\, creat
 ive\, innovative tech community – software and application developers\, 
 company owners\, startup founders\, recruiters\, hackers\, job seekers\, e
 xecutives\, investors\, community leaders\, and people who are new to the 
 area. \n\n The Format\nConnecting &gt\; community building &gt\; community
  shoutouts &gt\; sponsor shoutouts &gt\; presentations &gt\; afterparty \n
 \n The Vibe\nNeighborhood block party – fun\, friendly &amp\; relaxed wi
 th complimentary food &amp\; drinks. You’ll laugh\, smile\, and have a f
 un night out. \n\n The Experience\nDiscover innovative\, creative and insp
 irational new technology (or smarter use of old tech). It could be VR\, Io
 T\, Apps\, Fintech\, Mobiletech\, Healthtech\, Cloudtech… you get the id
 ea. \n\n Agenda\n5:00pm - Neighborhood block party style networking with a
 ppetizers\, beverages &amp\; a cash bar \n\n 6:00pm - Welcome! Time to sta
 rt the show \n\n 6:05pm - Sponsor Shoutouts \n\n 6:10pm - Community Connec
 tions\; quick shares with your neighbors \n\n 6:15pm - Community Shoutouts
 \; quick shares of cool events\, resources &amp\; meet new Seattleites \n\
 n 6:25pm - Presentations of cool tech &amp\; innovations \n\n 7:10pm - Tha
 nk you &amp\; goodnight\, …or \n\n 7:15pm - Afterparty in The Collective
 's High Tide community space \n\n The After Party\nContinue connecting to 
 fantastic people in our community after the show ends around 7:15 pm. \n\n
  The Tickets\n$20 before the event and $27 if purchased the day of the eve
 nt. \n\n Thank You to Our Sponsors! \n\n Startup 253 \n\n City University 
 of Seattle \n\n ALLTech \n\n Good Brand \n\n Parking\nThere is a parking g
 arage below The Collective and street parking around the area at your own 
 expense. If you decide to park in the parking garage\, the entrance is at 
 the back of the building along a back alley. It's a one-way street\, enter
  the alley from Harrison Street. \n\n By registering for a New Tech Northw
 est event\, you agree to our Code of Conduct Policy. \n
LAST-MODIFIED:20231109T081002
LOCATION:The Collective\, 400 Dexter Ave N\, Seattle\, WA 98109
ORGANIZER:mailto:social@newtechnorthwest.com
SUMMARY:New Tech Seattle November 2023
URL;VALUE=URI:https://ti.to/new-tech-nw/new-tech-seattle-november-2023
URL;VALUE=URI:https://ti.to/new-tech-nw/new-tech-seattle-november-2023
END:VEVENT
END:VCALENDAR
