BEGIN:VCALENDAR
VERSION:2.0
PRODID:icalendar-ruby
CALSCALE:GREGORIAN
BEGIN:VTIMEZONE
TZID:America/Los_Angeles
BEGIN:DAYLIGHT
DTSTART:20230312T030000
TZOFFSETFROM:-0800
TZOFFSETTO:-0700
RRULE:FREQ=YEARLY;BYDAY=2SU;BYMONTH=3
TZNAME:PDT
END:DAYLIGHT
BEGIN:STANDARD
DTSTART:20231105T010000
TZOFFSETFROM:-0700
TZOFFSETTO:-0800
RRULE:FREQ=YEARLY;BYDAY=1SU;BYMONTH=11
TZNAME:PST
END:STANDARD
END:VTIMEZONE
BEGIN:VEVENT
DTSTAMP:20260419T205900Z
UID:YIjNNQ
DTSTART;VALUE=DATE:20230615
DTEND;VALUE=DATE:20230616
CLASS:PUBLIC
CREATED:20230510T130256
DESCRIPTION: Join us on Thursday\, June 15th from 5-7 pm for New Tech Seatt
 le's next meet-up. \n\n New Tech is the Northwest's largest tech community
 . We're the place where you make meaningful connections\, learn from the i
 ndustry's best\, and have a fun night out. Most importantly\, you'll join 
 an engaging group of go-getters\, developers\, founders\, and professional
 s\, and discover the people\, partners\, organizations\, and resources to 
 help you build your dreams. \n\n June Presenters\nFounders\, leaders &amp\
 ; innovators share their passion &amp\; new tech through 8-minute presenta
 tions &amp\; 3 minutes of your Q&amp\;A. \n\n \n Rebekah Bastian\, CEO and
  Founder\, OwnTrail - tech to blaze your own trail \n Cheri Jensen\, Marke
 ting and Communications Director\, IGNITE Worldwide - creating connection 
 in tech  \n Lauren Kay Johnson\, Program Director\, IGNITE Worldwide - cre
 ating connection in tech  \n \n\n The Crowd\nThe Northwest’s smart\, fun
 \, creative\, innovative tech community – software and application devel
 opers\, company owners\, startup founders\, recruiters\, hackers\, job see
 kers\, executives\, investors\, community leaders\, and people who are new
  to the area. \n\n The Format\nConnecting &gt\; community building &gt\; c
 ommunity shoutouts &gt\; sponsor shoutouts &gt\; presentations &gt\; after
 party \n\n The Vibe\nNeighborhood block party – fun\, friendly &amp\; re
 laxed with complimentary food &amp\; drinks. You’ll laugh\, smile\, and 
 have a fun night out. \n\n The Experience\nDiscover innovative\, creative 
 and inspirational new technology (or smarter use of old tech). It could be
  VR\, IoT\, Apps\, Fintech\, Mobiletech\, Healthtech\, Cloudtech… you ge
 t the idea. \n\n Agenda\n5:00pm - Neighborhood block party style networkin
 g with appetizers\, beverages &amp\; a cash bar \n\n 6:00pm - Welcome! Tim
 e to start the show \n\n 6:05pm - Sponsor Shoutouts \n\n 6:10pm - Communit
 y Connections\; quick shares with your neighbors \n\n 6:15pm - Community S
 houtouts\; quick shares of cool events\, resources &amp\; meet new Seattle
 ites \n\n 6:25pm - Presentations of cool tech &amp\; innovations \n\n 7:10
 pm - Thank you &amp\; goodnight\, …or \n\n 7:15pm - Afterparty in The Co
 llective's High Tide community space \n\n The After Party\nContinue connec
 ting to fantastic people in our community after the show ends around 7:15 
 pm. \n\n The Tickets\n$12 before the event and $20 if purchased the day of
  the event. \n\n Thank You to Our Sponsors! \n\n Startup 253 \n\n City Uni
 versity of Seattle \n\n ALLTech \n\n Parking\nThere is a parking garage be
 low The Collective and street parking around the area at your own expense.
  If you decide to park in the parking garage\, the entrance is at the back
  of the building along a back alley. It's a one-way street\, enter the all
 ey from Harrison Street. \n\n By registering for a New Tech Northwest even
 t\, you agree to our Code of Conduct Policy. \n
LAST-MODIFIED:20230615T105843
LOCATION:The Collective\, 400 Dexter Ave N\, Seattle\, WA 98109
ORGANIZER:mailto:social@newtechnorthwest.com
SUMMARY:New Tech Seattle June 2023 Meetup
URL;VALUE=URI:https://ti.to/new-tech-nw/new-tech-seattle-june-2023
URL;VALUE=URI:https://ti.to/new-tech-nw/new-tech-seattle-june-2023
END:VEVENT
END:VCALENDAR
