BEGIN:VCALENDAR
VERSION:2.0
PRODID:icalendar-ruby
CALSCALE:GREGORIAN
BEGIN:VTIMEZONE
TZID:America/Los_Angeles
BEGIN:DAYLIGHT
DTSTART:20240310T030000
TZOFFSETFROM:-0800
TZOFFSETTO:-0700
RRULE:FREQ=YEARLY;BYDAY=2SU;BYMONTH=3
TZNAME:PDT
END:DAYLIGHT
BEGIN:STANDARD
DTSTART:20231105T010000
TZOFFSETFROM:-0700
TZOFFSETTO:-0800
RRULE:FREQ=YEARLY;BYDAY=1SU;BYMONTH=11
TZNAME:PST
END:STANDARD
END:VTIMEZONE
BEGIN:VEVENT
DTSTAMP:20260419T220924Z
UID:RaqKPg
DTSTART;TZID=America/Los_Angeles:20240111T170000
DTEND;TZID=America/Los_Angeles:20240111T190000
CLASS:PUBLIC
CREATED:20231212T065222
DESCRIPTION: Join us on Thursday\, January 11th from 5-7 pm for New Tech Se
 attle's next meet-up. \n\n New Tech is the Northwest's largest tech commun
 ity. We're the place where you make meaningful connections\, learn from th
 e industry's best\, and have a fun night out. Most importantly\, you'll jo
 in an engaging group of go-getters\, developers\, founders\, and professio
 nals\, and discover the people\, partners\, organizations\, and resources 
 to help you build your dreams.  Enjoy hosted beer\, wine and light appetiz
 ers while you mingle with your peers. \n\n January Panel\nThis month we ha
 ve a panel speaking on The Future of Creative Jobs in a Post-Generative AI
  World \n\n \n Shane Landry\, Director of User Experience for Google Produ
 ct Foundations (GPF) \n James Tee\, Principal Design Manager\, Azure Cogni
 tive Services Team at Microsoft \n Michael Alcock\, CMO Quoala Inc. - Mode
 rator \n \n\n  \n \nThe Crowd\nThe Northwest’s smart\, fun\, creative\, 
 innovative tech community – software and application developers\, compan
 y owners\, startup founders\, recruiters\, hackers\, job seekers\, executi
 ves\, investors\, community leaders\, and people who are new to the area. 
 \n\n The Format\nConnecting &gt\; community building &gt\; community shout
 outs &gt\; sponsor shoutouts &gt\; panel discussion &gt\; afterparty \n\n 
 The Vibe\nNeighborhood block party – fun\, friendly &amp\; relaxed with 
 complimentary food &amp\; drinks. You’ll laugh\, smile\, and have a fun 
 night out. \n\n The Experience\nDiscover innovative\, creative and inspira
 tional new technology (or smarter use of old tech). It could be VR\, IoT\,
  Apps\, Fintech\, Mobiletech\, Healthtech\, Cloudtech… you get the idea.
  \n\n Agenda\n5:00pm - Neighborhood block party style networking with appe
 tizers\, beverages &amp\; a cash bar \n\n 6:00pm - Welcome! Time to start 
 the show \n\n 6:05pm - Sponsor Shoutouts \n\n 6:10pm - Community Connectio
 ns\; quick shares with your neighbors \n\n 6:15pm - Community Shoutouts\; 
 quick shares of cool events\, resources &amp\; meet new Seattleites \n\n 6
 :25pm - Panel Discussion \n\n 7:10pm - Thank you &amp\; goodnight\, …or 
 \n\n 7:15pm - Afterparty in The Collective's High Tide community space \n\
 n The After Party\nContinue connecting to fantastic people in our communit
 y after the show ends around 7:15 pm. \n\n The Tickets\n$20 before the eve
 nt and $27 if purchased the day of the event. \n\n Thank You to Our Sponso
 rs! \n\n Startup 253 \n\n City University of Seattle \n\n ALLTech \n\n Goo
 d Brand \n\n Escalon \n\n Parking\nThere is a parking garage below The Col
 lective and street parking around the area at your own expense. If you dec
 ide to park in the parking garage\, the entrance is at the back of the bui
 lding along a back alley. It's a one-way street\, enter the alley from Har
 rison Street. \n\n By registering for a New Tech Northwest event\, you agr
 ee to our Code of Conduct Policy. \n
LAST-MODIFIED:20231212T070526
LOCATION:The Collective\, 400 Dexter Ave N\, Seattle\, WA 98109
ORGANIZER:mailto:social@newtechnorthwest.com
SUMMARY:New Tech Seattle January 2024 - Creative Jobs in a Post-Generative 
 AI World
URL;VALUE=URI:https://ti.to/new-tech-nw/new-tech-seattle-january-2024
URL;VALUE=URI:https://ti.to/new-tech-nw/new-tech-seattle-january-2024
END:VEVENT
END:VCALENDAR
