BEGIN:VCALENDAR
VERSION:2.0
PRODID:icalendar-ruby
CALSCALE:GREGORIAN
BEGIN:VTIMEZONE
TZID:America/Los_Angeles
BEGIN:DAYLIGHT
DTSTART:20240310T030000
TZOFFSETFROM:-0800
TZOFFSETTO:-0700
RRULE:FREQ=YEARLY;BYDAY=2SU;BYMONTH=3
TZNAME:PDT
END:DAYLIGHT
BEGIN:STANDARD
DTSTART:20231105T010000
TZOFFSETFROM:-0700
TZOFFSETTO:-0800
RRULE:FREQ=YEARLY;BYDAY=1SU;BYMONTH=11
TZNAME:PST
END:STANDARD
END:VTIMEZONE
BEGIN:VEVENT
DTSTAMP:20260419T211053Z
UID:ixC4Mg
DTSTART;VALUE=DATE:20231213
DTEND;VALUE=DATE:20231214
CLASS:PUBLIC
CREATED:20231108T103152
DESCRIPTION: Join us on Wednesday\, December 13th from 5-7 pm for relaunch 
 of New Tech Eastside! \n\n New Tech is the Northwest's largest tech commun
 ity. We're the place where you make meaningful connections\, learn from th
 e industry's best\, and have a fun night out. Most importantly\, you'll jo
 in an engaging group of go-getters\, developers\, founders\, and professio
 nals\, and discover the people\, partners\, organizations\, and resources 
 to help you build your dreams. Enjoy hosted beer\, wine and light appetize
 rs while you mingle with your peers.  \n\n December Speakers\nFounders\, l
 eaders &amp\; innovators share their passion &amp\; new tech through 8-min
 ute presentations &amp\; 3 minutes of your Q&amp\;A. \n\n \n Jason Cavness
 \, CEO &amp\; Founder\, Cavness HR \n Maria Petrova\, Seattle Center Lead\
 , AWS Skills Center \n \n\n  \nThe Crowd\nThe Northwest’s smart\, fun\, 
 creative\, innovative tech community – software and application develope
 rs\, company owners\, startup founders\, recruiters\, hackers\, job seeker
 s\, executives\, investors\, community leaders\, and people who are new to
  the area. \n\n The Format\nConnecting &gt\; community building &gt\; comm
 unity shoutouts &gt\; sponsor shoutouts &gt\; presentations &gt\; afterpar
 ty \n\n The Vibe\nNeighborhood block party – fun\, friendly &amp\; relax
 ed with complimentary food &amp\; drinks. You’ll laugh\, smile\, and hav
 e a fun night out. \n\n The Experience\nDiscover innovative\, creative and
  inspirational new technology (or smarter use of old tech). It could be VR
 \, IoT\, Apps\, Fintech\, Mobiletech\, Healthtech\, Cloudtech… you get t
 he idea. \n\n Agenda\n5:00pm - Neighborhood block party style networking w
 ith appetizers\, beverages &amp\; a cash bar \n\n 6:00pm - Welcome! Time t
 o start the show \n\n 6:05pm - Sponsor Shoutouts \n\n 6:10pm - Community C
 onnections\; quick shares with your neighbors \n\n 6:15pm - Community Shou
 touts\; quick shares of cool events\, resources &amp\; meet new Seattleite
 s \n\n 6:25pm - Presentations of cool tech &amp\; innovations \n\n 7:10pm 
 - Thank you &amp\; goodnight\, …or \n\n 7:15pm - Afterparty in The Colle
 ctive's High Tide community space \n\n The After Party\nContinue connectin
 g to fantastic people in our community after the show ends around 7:15 pm.
  \n\n The Tickets\n$20 before the event and $27 if purchased the day of th
 e event. \n\n Thank You to Our Sponsors! \n\n ALLTech \n\n Good Brand \n\n
  Parking\nEvent parking is free! \n\n By registering for a New Tech Northw
 est event\, you agree to our Code of Conduct Policy. \n
LAST-MODIFIED:20231213T061655
LOCATION:Venture Mechanics Coworking Studio - Bellevue  14110 NE 21st Stree
 t Bellevue\, WA 98007
ORGANIZER:mailto:social@newtechnorthwest.com
SUMMARY:New Tech Eastside December 2023
URL;VALUE=URI:https://ti.to/new-tech-nw/new-tech-eastside-december-2023
URL;VALUE=URI:https://ti.to/new-tech-nw/new-tech-eastside-december-2023
END:VEVENT
END:VCALENDAR
