BEGIN:VCALENDAR
VERSION:2.0
PRODID:icalendar-ruby
CALSCALE:GREGORIAN
BEGIN:VTIMEZONE
TZID:America/Los_Angeles
BEGIN:DAYLIGHT
DTSTART:20240310T030000
TZOFFSETFROM:-0800
TZOFFSETTO:-0700
RRULE:FREQ=YEARLY;BYDAY=2SU;BYMONTH=3
TZNAME:PDT
END:DAYLIGHT
BEGIN:STANDARD
DTSTART:20231105T010000
TZOFFSETFROM:-0700
TZOFFSETTO:-0800
RRULE:FREQ=YEARLY;BYDAY=1SU;BYMONTH=11
TZNAME:PST
END:STANDARD
END:VTIMEZONE
BEGIN:VEVENT
DTSTAMP:20260422T195039Z
UID:YPf0XA
DTSTART;VALUE=DATE:20231221
DTEND;VALUE=DATE:20231222
CLASS:PUBLIC
CREATED:20231115T092029
DESCRIPTION: You Are Not Alone \n\n Join us on Thursday December 21st for N
 ew Tech's ADHD OASIS Meetup: Running the ADHD Marathon | Burnout from Not 
 Slowing Down \n\n  \n\n Overexertion\, taking on too much\, over-schedulin
 g to the point having too much to do and no time to do it will eventually 
 cause life to come to a screeching halt. When you are burning the candle f
 rom both ends you are bound to burnout. Burnout is that extreme fatigue th
 at happens when you dont take time to rest and it is much more prevalent a
 mong those with ADHD. In this meetup we will discuss strategies to prevent
  burnout. \n\n Join us for New Tech Northwest's ADHD OASIS Meetup. This vi
 rtual event will combine community and coaching to support you in building
  supportive systems for managing your neurodiverse brain. Discover how to 
 decrease your neurodiverse challenges while building relationships with fe
 llow ADHDers and neurodiverse peers who are on similar journeys. \n\n You 
 can attend these virtual Meetups on the third Thursday of every month. The
  more Meetups you attend\, the more peer connections you'll make with othe
 r professionals who have neurodiverse brains like you. Instead of being lo
 nely in your experience\, come laugh\, learn\, and connect with your commu
 nity. \n\n During the Meetups we'll share struggles as well as systems and
  strategies to overcome your executive functioning and working memory chal
 lenges like anxiety\, overwhelm\, miscommunication\, interrupting\, inatte
 ntiveness\, stress\, distractibility\, procrastination\, paperwork fails\,
  imposter syndrome\, having to mask your neurodiversity at work\, and weak
  organization skills. Welcome! \n\n Check out these articles before the me
 etup:\nADHD Symptom Spotlight: Burnout \n\n All About ADHD Burnout \n\n  \
 nThe Agenda\n*You are welcome to show up late or leave early to suit your 
 schedule. We understand that this is a workday event and unexpected priori
 ties arise. We're neurodiverse and understand these realities. :) \n\n \n 
 12:00pm – Welcome! \n\n 12:05pm – Community discussion of today’s ma
 in neurodiverse topic \n\n 12:20pm – Breakout into small groups to discu
 ss the topic further and meet some new friends \n\n 12:45pm – Return to 
 the main Zoom room to share stories and learnings from your breakout group
  experience \n\n 1:00pm – Closing and farewell until the next Meetup in 
 two weeks \n \n\n Attendee Requirements \n\n \n Have a belief or diagnosis
  that you have ADD / ADHD \n Work\, or currently be looking for work\, in 
 the technology industry \n \n\n Our monthly virtual meetups are designed t
 o foster collaboration and support within our ADHD tech community. Anyone 
 working in tech who is seeking ADHD support is invited to join us. \n\n To
  ensure a focused environment\, we kindly ask ADHD coaches not to join the
 se events. ADHD Oasis meetups are not a place to coach group members or to
  actively seek clients. Thank you for your understanding. \n
LAST-MODIFIED:20231121T074033
LOCATION:Zoom Virtual Meeting
ORGANIZER:mailto:social@newtechnorthwest.com
SUMMARY:ADHD OASIS Meetup [VIRTUAL]: Running the ADHD Marathon | Burning Ou
 t from Not Slowing Down
URL;VALUE=URI:https://ti.to/new-tech-nw/adhd-12-21-2023
URL;VALUE=URI:https://ti.to/new-tech-nw/adhd-12-21-2023
END:VEVENT
BEGIN:VEVENT
DTSTAMP:20260422T195039Z
UID:YPf0XA1064563
DTSTART;TZID=America/Los_Angeles:20231221T120000
DTEND;TZID=America/Los_Angeles:20231221T130000
CLASS:PUBLIC
CREATED:20231115T092029
LAST-MODIFIED:20231115T093559
ORGANIZER:mailto:social@newtechnorthwest.com
SUMMARY:[ADHD OASIS Meetup [VIRTUAL]: Running the ADHD Marathon | Burning O
 ut from Not Slowing Down] ADHD OASIS Virtual Meetup
URL;VALUE=URI:https://ti.to/new-tech-nw/adhd-12-21-2023
URL;VALUE=URI:https://ti.to/new-tech-nw/adhd-12-21-2023
END:VEVENT
END:VCALENDAR
