BEGIN:VCALENDAR
VERSION:2.0
PRODID:icalendar-ruby
CALSCALE:GREGORIAN
BEGIN:VTIMEZONE
TZID:America/Los_Angeles
BEGIN:DAYLIGHT
DTSTART:20240310T030000
TZOFFSETFROM:-0800
TZOFFSETTO:-0700
RRULE:FREQ=YEARLY;BYDAY=2SU;BYMONTH=3
TZNAME:PDT
END:DAYLIGHT
BEGIN:STANDARD
DTSTART:20231105T010000
TZOFFSETFROM:-0700
TZOFFSETTO:-0800
RRULE:FREQ=YEARLY;BYDAY=1SU;BYMONTH=11
TZNAME:PST
END:STANDARD
END:VTIMEZONE
BEGIN:VEVENT
DTSTAMP:20260419T221431Z
UID:yLctBQ
DTSTART;TZID=America/Los_Angeles:20240118T120000
DTEND;TZID=America/Los_Angeles:20240118T130000
CLASS:PUBLIC
CREATED:20231218T094750
DESCRIPTION: You Are Not Alone \n\n Join us on Thursday January 18th for Ne
 w Tech's ADHD OASIS Meetup: Managing ADHD Behaviors that Annoy Other Peopl
 e \n\n  \n\n ADHD symptoms can have an impact on our relationships and som
 etimes that can take a toll. Irritating symptoms and traits that come alon
 g with ADHD such as interrupting\, not listening\, fidgeting and more can 
 cause people to shy away. The best way to address these behaviors is to un
 derstand these behaviors are not intentional. Join this meetup to gain a b
 etter understanding of how the ADHD brain is wired and how you might be ab
 le to curb these troublesome behaviors. \n\n Join us for New Tech Northwes
 t's ADHD OASIS Meetup. This virtual event will combine community and coach
 ing to support you in building supportive systems for managing your neurod
 iverse brain. Discover how to decrease your neurodiverse challenges while 
 building relationships with fellow ADHDers and neurodiverse peers who are 
 on similar journeys. \n\n You can attend these virtual Meetups on the thir
 d Thursday of every month. The more Meetups you attend\, the more peer con
 nections you'll make with other professionals who have neurodiverse brains
  like you. Instead of being lonely in your experience\, come laugh\, learn
 \, and connect with your community. \n\n During the Meetups we'll share st
 ruggles as well as systems and strategies to overcome your executive funct
 ioning and working memory challenges like anxiety\, overwhelm\, miscommuni
 cation\, interrupting\, inattentiveness\, stress\, distractibility\, procr
 astination\, paperwork fails\, imposter syndrome\, having to mask your neu
 rodiversity at work\, and weak organization skills. Welcome! \n\n Check ou
 t this articles before the meetup:\n8 Behaviors Related to ADHD That Annoy
  Other People \n\n The Agenda\n*You are welcome to show up late or leave e
 arly to suit your schedule. We understand that this is a workday event and
  unexpected priorities arise. We're neurodiverse and understand these real
 ities. :) \n\n \n 12:00pm – Welcome! \n\n 12:05pm – Community discussi
 on of today’s main neurodiverse topic \n\n 12:20pm – Breakout into sma
 ll groups to discuss the topic further and meet some new friends \n\n 12:4
 5pm – Return to the main Zoom room to share stories and learnings from y
 our breakout group experience \n\n 1:00pm – Closing and farewell until t
 he next Meetup in two weeks \n \n\n Attendee Requirements \n\n \n Have a b
 elief or diagnosis that you have ADD / ADHD \n Work\, or currently be look
 ing for work\, in the technology industry \n \n\n Our monthly virtual meet
 ups are designed to foster collaboration and support within our ADHD tech 
 community. Anyone working in tech who is seeking ADHD support is invited t
 o join us. \n\n To ensure a focused environment\, we kindly ask ADHD coach
 es not to join these events. ADHD Oasis meetups are not a place to coach g
 roup members or to actively seek clients. Thank you for your understanding
 . \n
LAST-MODIFIED:20231228T101122
LOCATION:Zoom Virtual Meeting
ORGANIZER:mailto:social@newtechnorthwest.com
SUMMARY:ADHD OASIS Meetup [VIRTUAL]: Managing ADHD Behaviors that Annoy Oth
 er People
URL;VALUE=URI:https://ti.to/new-tech-nw/adhd-01-18-2024
URL;VALUE=URI:https://ti.to/new-tech-nw/adhd-01-18-2024
END:VEVENT
END:VCALENDAR
