BEGIN:VCALENDAR
VERSION:2.0
PRODID:icalendar-ruby
CALSCALE:GREGORIAN
BEGIN:VEVENT
DTSTAMP:20260424T021419Z
UID:ve8HPA
DTSTART;VALUE=DATE:20171101
DTEND;VALUE=DATE:20180401
CLASS:PUBLIC
CREATED:20151118T210238
DESCRIPTION: Neutral Cycle Shelter - Winter Storage 2017 \n\n \n  Bring you
 r printed off ticket with you when you register.  Also\, please do not bri
 ng any locks or helmets with your bike.  \n  All payments are rounded to t
 he nearest month. \nEx) Storing bike for 2 weeks is the same as paying for
  4 weeks.  \n  For any questions/concerns contact us at 217.979.2471 or ca
 mpus@neutralcycle.com  \n \n
LAST-MODIFIED:20181109T174640
LOCATION:624 S. Fifth Street\, Champaign\, IL
ORGANIZER:mailto:noreply-calendar@tito.io
SUMMARY:Neutral Cycle Shelter - Winter Storage 2017
URL;VALUE=URI:https://ti.to/neutralcycles/winter-storage-2017
URL;VALUE=URI:https://ti.to/neutralcycles/winter-storage-2017
END:VEVENT
END:VCALENDAR
