BEGIN:VCALENDAR
VERSION:2.0
PRODID:icalendar-ruby
CALSCALE:GREGORIAN
BEGIN:VTIMEZONE
TZID:Europe/Berlin
BEGIN:DAYLIGHT
DTSTART:20260329T030000
TZOFFSETFROM:+0100
TZOFFSETTO:+0200
RRULE:FREQ=YEARLY;BYDAY=-1SU;BYMONTH=3
TZNAME:CEST
END:DAYLIGHT
BEGIN:STANDARD
DTSTART:20261025T020000
TZOFFSETFROM:+0200
TZOFFSETTO:+0100
RRULE:FREQ=YEARLY;BYDAY=-1SU;BYMONTH=10
TZNAME:CET
END:STANDARD
END:VTIMEZONE
BEGIN:VEVENT
DTSTAMP:20260425T225359Z
UID:qiizzA
DTSTART;TZID=Europe/Berlin:20260711T140000
DTEND;TZID=Europe/Berlin:20260711T170000
CLASS:PUBLIC
CREATED:20260420T131003
DESCRIPTION: Hack CouchDB and PouchDB! 👩‍💻 \n\n From 14:00 to 17:00
 \, you can join offline-first / local-first developers taking first steps 
 with CouchDB &amp\; PouchDB. \n\n Learn the basics or see them in action\,
  get help with your own project\, hack on the open source projects themsel
 ves and chat with like-minded folks. Learn more on our blog. \n\n Refreshm
 ents and light snacks provided 🥗 \n
LAST-MODIFIED:20260421T150549
LOCATION:Neighbourhoodie Software @ Workish Berlin
ORGANIZER:mailto:madeleine@neighbourhood.ie
SUMMARY:CouchDB & PouchDB Hackday Berlin 2026
URL;VALUE=URI:https://ti.to/neighbourhoodie/couchdb-couchdb-hack-day-party-
 berlin-2026
URL;VALUE=URI:https://ti.to/neighbourhoodie/couchdb-couchdb-hack-day-party-
 berlin-2026
END:VEVENT
END:VCALENDAR
