BEGIN:VCALENDAR
VERSION:2.0
PRODID:icalendar-ruby
CALSCALE:GREGORIAN
BEGIN:VEVENT
DTSTAMP:20260423T131155Z
UID:l3PIng
DTSTART;VALUE=DATE:20170717
DTEND;VALUE=DATE:20170718
CLASS:PUBLIC
CREATED:20170516T112033
DESCRIPTION: Meet our newest Fellowship cohort and be the first to hear abo
 ut the work they'll be making this year. \n
LAST-MODIFIED:20170516T162235
LOCATION:Nottingham\, UK
ORGANIZER:mailto:nearnow@broadway.org.uk
SUMMARY:Near Now Fellowship 2017: Meet the Fellows
URL;VALUE=URI:https://ti.to/nearnow/meet-the-fellows-2017
URL;VALUE=URI:https://ti.to/nearnow/meet-the-fellows-2017
END:VEVENT
END:VCALENDAR
