BEGIN:VCALENDAR
VERSION:2.0
PRODID:icalendar-ruby
CALSCALE:GREGORIAN
BEGIN:VEVENT
DTSTAMP:20260421T121205Z
UID:r083Cg
DTSTART;VALUE=DATE:20180929
DTEND;VALUE=DATE:20181001
CLASS:PUBLIC
CREATED:20180622T083812
DESCRIPTION: You're welcomed to join the first national conference to build
  momentum AND provide tools and guidance to get forest gardens planted up 
 and down the country. This conference brings together practitioners\, teac
 hers\, researchers\, enthusiasts and commissioners. It is a chance to get 
 practical advice as to how to plant and sustain forest gardens in your loc
 ality\, hear the success stories and look to the future - how to continue 
 to engage communities to create these inspiring spaces. \n
LAST-MODIFIED:20190723T082559
LOCATION:Oxford
ORGANIZER:mailto:paulpivcevic@gmail.com
SUMMARY:Bringing Forest Gardens to Life in Urban Settings
URL;VALUE=URI:https://ti.to/national-forest-gardening-scheme/bringing-fores
 t-gardens-to-life-in-urban-settings
URL;VALUE=URI:https://ti.to/national-forest-gardening-scheme/bringing-fores
 t-gardens-to-life-in-urban-settings
END:VEVENT
END:VCALENDAR
