BEGIN:VCALENDAR
VERSION:2.0
PRODID:icalendar-ruby
CALSCALE:GREGORIAN
BEGIN:VTIMEZONE
TZID:Europe/London
BEGIN:DAYLIGHT
DTSTART:20260329T020000
TZOFFSETFROM:+0000
TZOFFSETTO:+0100
RRULE:FREQ=YEARLY;BYDAY=-1SU;BYMONTH=3
TZNAME:BST
END:DAYLIGHT
BEGIN:STANDARD
DTSTART:20261025T010000
TZOFFSETFROM:+0100
TZOFFSETTO:+0000
RRULE:FREQ=YEARLY;BYDAY=-1SU;BYMONTH=10
TZNAME:GMT
END:STANDARD
END:VTIMEZONE
BEGIN:VEVENT
DTSTAMP:20260421T191422Z
UID:17nLgg
DTSTART;TZID=Europe/London:20260425T101500
DTEND;TZID=Europe/London:20260425T163000
CLASS:PUBLIC
CREATED:20260115T133110
LAST-MODIFIED:20260420T152739
LOCATION:Langley Academy\, Berkshire\, SL3 7EF
ORGANIZER:mailto:noreply-calendar@tito.io
SUMMARY:Wisdom & Meditation with Satpal Singh (London)
URL;VALUE=URI:https://ti.to/nanaknaam/wisdom-meditation-april-2026
URL;VALUE=URI:https://ti.to/nanaknaam/wisdom-meditation-april-2026
END:VEVENT
BEGIN:VEVENT
DTSTAMP:20260421T191422Z
UID:17nLgg1094519
DTSTART;TZID=Europe/London:20260425T110000
DTEND;TZID=Europe/London:20260425T160000
CLASS:PUBLIC
CREATED:20260115T133111
LAST-MODIFIED:20260421T193053
LOCATION:Langley Academy\, Langley Rd\, Langley\, SL3 7EF\, UK
ORGANIZER:mailto:noreply-calendar@tito.io
SUMMARY:[Wisdom & Meditation with Satpal Singh (London)] Main Event
URL;VALUE=URI:https://ti.to/nanaknaam/wisdom-meditation-april-2026
URL;VALUE=URI:https://ti.to/nanaknaam/wisdom-meditation-april-2026
END:VEVENT
END:VCALENDAR
