BEGIN:VCALENDAR
VERSION:2.0
PRODID:icalendar-ruby
CALSCALE:GREGORIAN
BEGIN:VTIMEZONE
TZID:Europe/Berlin
BEGIN:DAYLIGHT
DTSTART:20210328T030000
TZOFFSETFROM:+0100
TZOFFSETTO:+0200
RRULE:FREQ=YEARLY;BYDAY=-1SU;BYMONTH=3
TZNAME:CEST
END:DAYLIGHT
BEGIN:STANDARD
DTSTART:20201025T020000
TZOFFSETFROM:+0200
TZOFFSETTO:+0100
RRULE:FREQ=YEARLY;BYDAY=-1SU;BYMONTH=10
TZNAME:CET
END:STANDARD
END:VTIMEZONE
BEGIN:VEVENT
DTSTAMP:20260419T193525Z
UID:tWsJ2w
DTSTART;VALUE=DATE:20210114
DTEND;VALUE=DATE:20210116
CLASS:PUBLIC
CREATED:20190226T155921
DESCRIPTION: Tickets grant access to the JS Kongress 2021 conference days (
 January 14-15)\, including refreshments and hot lunch\, evening entertainm
 ent\, a conference t-shirt\, swag bag\, and an inspiring and entertaining 
 conference! \n
LAST-MODIFIED:20210114T020448
LOCATION:Munich\, Germany
ORGANIZER:mailto:hello@js-kongress.com
SUMMARY:JS Kongress Munich 2020
URL;VALUE=URI:https://ti.to/munich-dev-events/js-kongress-2020
URL;VALUE=URI:https://ti.to/munich-dev-events/js-kongress-2020
END:VEVENT
END:VCALENDAR
