BEGIN:VCALENDAR
VERSION:2.0
PRODID:icalendar-ruby
CALSCALE:GREGORIAN
BEGIN:VEVENT
DTSTAMP:20260424T163627Z
UID:LybxvA
DTSTART;VALUE=DATE:20160602
DTEND;VALUE=DATE:20160604
CLASS:PUBLIC
CREATED:20160331T135623
DESCRIPTION: Join us as we learn to collaboratively build projects transfor
 ming science on the web!  \n\n This two-day sprint event brings together r
 esearchers\, coders\, librarians and the public from around the globe to h
 ack on open science and open data projects in their communities. \n
LAST-MODIFIED:20160601T222058
LOCATION:Brooklyn\, New York
ORGANIZER:mailto:arliss@mozillafoundation.org
SUMMARY:Mozilla Science Global Sprint 2016\, Brooklyn
URL;VALUE=URI:https://ti.to/mozilla-science/gs2016-newyork
URL;VALUE=URI:https://ti.to/mozilla-science/gs2016-newyork
END:VEVENT
END:VCALENDAR
