BEGIN:VCALENDAR
VERSION:2.0
PRODID:icalendar-ruby
CALSCALE:GREGORIAN
BEGIN:VEVENT
DTSTAMP:20260421T090139Z
UID:MXsdbQ
DTSTART;VALUE=DATE:20170128
DTEND;VALUE=DATE:20170130
CLASS:PUBLIC
CREATED:20170112T150638
DESCRIPTION: CALLING ALL HACKERS! \n\n \n Are you interested in Open Source
  voice recognition? \n Do you care about digital privacy? \n Do you know y
 our way around a Raspberry Pi? \n And do you enjoy spending your free time
  on fun and interesting projects? \n \n\n Well then we have an opportunity
  for you! Mozilla is spending a weekend prototyping the future of voice re
 cognition on the web\, and we need your help! Come join us on Saturday and
  Sunday Jan 28-29 for two full days of voice recognition hacking. You will
  have the chance to learn from  experts on deep learning\, speech comprehe
 nsion and synthesis. And as thank you for your help\, Mozilla will provide
  breakfast\, lunch\, drinks &amp\; snacks\, and a special gift. \n\n Space
  is limited to 20 people\, so register now! \n\n Schedule: \n\n \n Sat\, J
 an 28\, 9.30am - 5.30pm \n Sun\, Jan 29\, 9.30am - 5:30pm \n \n\n Day 1\, 
 Saturday \n\n \n 9.30 - Kick off and Breakfast \n 10.00 - Mozilla Open Sou
 rce Voice Project\, Introduction to previous and future work \n 10.30 - Ha
 cking Starts!\, Devices handed out and groups created.  \n 12.30 - 1.00 - 
 LUNCH \n 1.00 - Continue work\, Ongoing work and expert feedback \n 5.00  
 - 5.30  - Drinks and networking \n \n\n Day 2\, Sunday \n\n \n 9.30 - Brea
 kfast and share out \n 10.00 - Hacking \n 12.00 - 12.30 - LUNCH \n 12.30 -
  Hacking  \n 4:00 - 5:00 - Final Share out \n 5:00 - 5:30 - Next Steps &am
 p\; Thank you! \n \n
LAST-MODIFIED:20170127T121159
LOCATION:Berlin\, Germany
ORGANIZER:mailto:mhenretty@mozilla.com
SUMMARY:Mozilla Voice Recognition Hackz
URL;VALUE=URI:https://ti.to/mozilla-meetups/voice-recognition-hackz
URL;VALUE=URI:https://ti.to/mozilla-meetups/voice-recognition-hackz
END:VEVENT
END:VCALENDAR
