BEGIN:VCALENDAR
VERSION:2.0
PRODID:icalendar-ruby
CALSCALE:GREGORIAN
BEGIN:VTIMEZONE
TZID:Europe/London
BEGIN:DAYLIGHT
DTSTART:20240331T020000
TZOFFSETFROM:+0000
TZOFFSETTO:+0100
RRULE:FREQ=YEARLY;BYDAY=-1SU;BYMONTH=3
TZNAME:BST
END:DAYLIGHT
BEGIN:STANDARD
DTSTART:20231029T010000
TZOFFSETFROM:+0100
TZOFFSETTO:+0000
RRULE:FREQ=YEARLY;BYDAY=-1SU;BYMONTH=10
TZNAME:GMT
END:STANDARD
END:VTIMEZONE
BEGIN:VEVENT
DTSTAMP:20260425T000438Z
UID:WKKuuA
DTSTART;TZID=Europe/London:20240221T093000
DTEND;TZID=Europe/London:20240223T173000
CLASS:PUBLIC
CREATED:20230301T121424
DESCRIPTION: MOVE Summit 2024 - Scotland's largest animation gathering! \n
LAST-MODIFIED:20250219T225341
LOCATION:Pleasance Courtyard\, Edinburgh EH8 9TJ
ORGANIZER:mailto:info@movesummit.co.uk
SUMMARY:MOVE Summit 2024
URL;VALUE=URI:https://ti.to/move-summit/move-summit-2024
URL;VALUE=URI:https://ti.to/move-summit/move-summit-2024
END:VEVENT
END:VCALENDAR
