BEGIN:VCALENDAR
VERSION:2.0
PRODID:icalendar-ruby
CALSCALE:GREGORIAN
BEGIN:VEVENT
DTSTAMP:20260425T025402Z
UID:vd56pQ
DTSTART;VALUE=DATE:20191124
DTEND;VALUE=DATE:20191125
CLASS:PUBLIC
CREATED:20191022T005836
DESCRIPTION: Gather around a fire with friends. try our new cider &amp\; ba
 con beer\, great food &amp\; incredible performers. \n
LAST-MODIFIED:20210815T104953
LOCATION:Mount Gnomon FArm
ORGANIZER:mailto:info@mountgnomonfarm.com.au
SUMMARY:Bubbles and Squeal
URL;VALUE=URI:https://ti.to/mount-gnomon-farm/bubbles-and-squeal
URL;VALUE=URI:https://ti.to/mount-gnomon-farm/bubbles-and-squeal
END:VEVENT
END:VCALENDAR
