BEGIN:VCALENDAR
VERSION:2.0
PRODID:icalendar-ruby
CALSCALE:GREGORIAN
BEGIN:VEVENT
DTSTAMP:20260420T125259Z
UID:3uxG7w
DTSTART;VALUE=DATE:20201015
DTEND;VALUE=DATE:20201017
CLASS:PUBLIC
CREATED:20191126T143948
DESCRIPTION: COVID-19 UPDATE \n\n With everything that is still happening i
 n the world\, we have made the decision to cancel all in-person events unt
 il the end of the year.\nThe good news is that TestBash Netherlands will n
 ow run Online! \nFollow this link to find out all the information and book
  your tickets. \n
LAST-MODIFIED:20250620T150524
LOCATION:Utrecht
ORGANIZER:mailto:netherlands@ministryoftesting.com
SUMMARY:TestBash Netherlands 2020
URL;VALUE=URI:https://ti.to/mot/testbash-netherlands-2020
URL;VALUE=URI:https://ti.to/mot/testbash-netherlands-2020
END:VEVENT
END:VCALENDAR
