BEGIN:VCALENDAR
VERSION:2.0
PRODID:icalendar-ruby
CALSCALE:GREGORIAN
BEGIN:VEVENT
DTSTAMP:20260422T085352Z
UID:KHVIxg
DTSTART;VALUE=DATE:20200930
DTEND;VALUE=DATE:20201003
CLASS:PUBLIC
CREATED:20200115T103612
DESCRIPTION: COVID-19 UPDATE \n\n With everything that is still happening i
 n the world\, we have made the decision to cancel all in-person events unt
 il the end of the year.\nThe good news is that TestBash Manchester will no
 w run Online! \nFollow this link to find out all the information and book 
 your tickets. \n
LAST-MODIFIED:20250620T150524
LOCATION:Manchester\, UK
ORGANIZER:mailto:manchester@ministryoftesting.com
SUMMARY:TestBash Manchester 2020
URL;VALUE=URI:https://ti.to/mot/testbash-manchester-2020
URL;VALUE=URI:https://ti.to/mot/testbash-manchester-2020
END:VEVENT
END:VCALENDAR
