BEGIN:VCALENDAR
VERSION:2.0
PRODID:icalendar-ruby
CALSCALE:GREGORIAN
BEGIN:VEVENT
DTSTAMP:20260421T195735Z
UID:l5iS9w
DTSTART;VALUE=DATE:20161021
DTEND;VALUE=DATE:20161022
CLASS:PUBLIC
CREATED:20160331T103243
DESCRIPTION: Testers of the world will (re)unite on October 21-22nd 2016 in
  Manchester (UK) for the most awesome\, friendliest and jam packed softwar
 e testing conference ever! \n\n Our TestBash Manchester conference day is 
 a single track conference all about software testing. There will be plenty
  to soak up and learn. \n\n You can find full details of the events here. 
 \n
LAST-MODIFIED:20250620T150524
LOCATION:Manchester
ORGANIZER:mailto:richard@softwaretestingclub.com
SUMMARY:TestBash Manchester 2016
URL;VALUE=URI:https://ti.to/mot/testbash-manchester-2016
URL;VALUE=URI:https://ti.to/mot/testbash-manchester-2016
END:VEVENT
END:VCALENDAR
