BEGIN:VCALENDAR
VERSION:2.0
PRODID:icalendar-ruby
CALSCALE:GREGORIAN
BEGIN:VTIMEZONE
TZID:Europe/London
BEGIN:DAYLIGHT
DTSTART:20220327T020000
TZOFFSETFROM:+0000
TZOFFSETTO:+0100
RRULE:FREQ=YEARLY;BYDAY=-1SU;BYMONTH=3
TZNAME:BST
END:DAYLIGHT
BEGIN:STANDARD
DTSTART:20211031T010000
TZOFFSETFROM:+0100
TZOFFSETTO:+0000
RRULE:FREQ=YEARLY;BYDAY=-1SU;BYMONTH=10
TZNAME:GMT
END:STANDARD
END:VTIMEZONE
BEGIN:VEVENT
DTSTAMP:20260422T085359Z
UID:DrfcYw
DTSTART;VALUE=DATE:20220310
DTEND;VALUE=DATE:20220311
CLASS:PUBLIC
CREATED:20220104T154006
DESCRIPTION: You can find full details of TestBash Leadership here. \n\n In
 tro \n\n TestBash Leadership is the first of our six online TestBashes hap
 pening in 2022. \n\n We have asked the Community which topics they wanted 
 to focus in 2022 and Leadership was one of most voted. After Leadership\, 
 the following online TestBashes Online will focus on: Mobile\, Careers &am
 p\; Hiring\, Security and Core Skills as well as\, the one and only\, Test
 .bash()\;!  \n\n Tickets \n\n ↓↓↓ \n
LAST-MODIFIED:20250620T160524
LOCATION:Online
ORGANIZER:mailto:testbash@ministryoftesting.com
SUMMARY:TestBash Leadership 2022
URL;VALUE=URI:https://ti.to/mot/testbash-leadership
URL;VALUE=URI:https://ti.to/mot/testbash-leadership
END:VEVENT
END:VCALENDAR
