BEGIN:VCALENDAR
VERSION:2.0
PRODID:icalendar-ruby
CALSCALE:GREGORIAN
BEGIN:VEVENT
DTSTAMP:20260422T090947Z
UID:dl3egA
DTSTART;VALUE=DATE:20200430
DTEND;VALUE=DATE:20200502
CLASS:PUBLIC
CREATED:20200401T083002
DESCRIPTION: You can find full details of TestBash Home here. \n\n Intro \n
 \n Our first online software testing conference\, TestBash Home\, will mak
 e its debut on the 30th of April 2020\, rolling into the 1st of May 2020 f
 or a full 24 hour period! This brand new TestBash will be travelling the t
 ime zones packed with new talks\, panel discussions\, games\, activities\,
  revisited talks and sponsor demos. \n\n TestBash Home \n\n You have the o
 pportunity to purchase a unique Green Belt package with a limited number o
 f places available that gives you the opportunity to present a demo to the
  attendees from all over the world. Your demo will be added to your compan
 y directory entry for all members of the Ministry of Testing platform to b
 e able to view after the event. \n\n Don't have the resources for Green Be
 lt? You can still show your support for MoT and the community by purchasin
 g the Yellow Belt sponsorship option. Your brand will be seen by our commu
 nity from all over the world. \n\n Sponsorship Packages \n\n Closing date 
 for all sponsorship packages is 17th April 2020 or until the limit runs ou
 t. \n\n | Includes | Green Belt | Yellow Belt |\n| :-----------------: |:-
 ----------------:| :---------------------:|\n| Pre-recorded marketing/prod
 uct demo video shown once during the conference | ✔ | ✘ |\n| Recording
  of your demo added to your company directory listing | ✔ | ✘ |\n| You
 r company directory listing featured | ✔ 2 weeks | ✔ 1 week |\n| A per
 manent badge on your company directory listing highlighting you as a spons
 or for TestBash Home 2020 | ✔ | ✔ |\n| A social media shoutout you cus
 tomise to meet your goal on Twitter | ✔ | ✔ |\n| Logo on the TestBash 
 event page\, linking to you or your company directory listing | ✔ | ✔ 
 | \n| Logo on the TestBash talk slides | ✔ | ✔ | \n| Logo on videos of
  the TestBash talks which are uploaded to our online learning platform | 
 ✔ | ✔ |\n| A shout out from our MC thanking you for your sponsorship |
  ✔ | ✔ | \n\n Purchase Sponsorship \n\n ↓↓↓ \n
LAST-MODIFIED:20250620T150524
LOCATION:Online
ORGANIZER:mailto:testbash@ministryoftesting.com
SUMMARY:TestBash Home Sponsorship 2020
URL;VALUE=URI:https://ti.to/mot/testbash-home-sponsorship-2020
URL;VALUE=URI:https://ti.to/mot/testbash-home-sponsorship-2020
END:VEVENT
END:VCALENDAR
