BEGIN:VCALENDAR
VERSION:2.0
PRODID:icalendar-ruby
CALSCALE:GREGORIAN
BEGIN:VEVENT
DTSTAMP:20260422T101847Z
UID:SYI5Rw
DTSTART;VALUE=DATE:20200501
DTEND;VALUE=DATE:20200502
CLASS:PUBLIC
CREATED:20200330T121002
DESCRIPTION: You can find full details of TestBash Home 2020 here. \n\n Int
 ro \n\n Our first online software testing conference\, TestBash Home\, wil
 l make its debut on the 30th of April 2020\, rolling into the 1st of May 2
 020 for a full 24 hour period! This brand new TestBash will be traveling t
 he time zones packed with new talks\, panel discussions\, games\, activiti
 es and revisited talks!  \n\n TestBash Home \n\n TestBash Home will start 
 at 8:00 pm UK Time on the 30th of April as a 24 hour rolling Software Test
 ing Conference. You can pick the times that best suits you\, or\, if you
 ’re brave enough\, do the full 24 hours straight! If you can’t don’t
  worry\, all the content will be available to you after the event on The D
 ojo\, where you’ll be able to see all the talks from different time zone
 s! \n\n Community \n\n We’ve designed TestBash Home to be as interactive
  and community focussed as the real deal\, giving you opportunities to ask
  speakers and panel guests questions\, get involved in community discussio
 ns\, take part in testing challenges and it’s not a TestBash without our
  famous 99-second talks! \n\n Ticket Price \n\n For the first time\, we've
  added a donation option to all attendees. A ticket base price is £49\, h
 owever\, we’ve enabled a "pay what you can" pricing to allow you to pay 
 more if you think it’s worth more and want to support MoT. Should you wi
 sh to enter a higher amount\, just type that amount over the £49 and proc
 eed with the purchase. \nThe finer details of how and where to join will b
 e sent closer to the event\, so keep an eye on your emails. \n\n Tickets \
 n\n ↓↓↓ \n
LAST-MODIFIED:20250620T150524
LOCATION:Online
ORGANIZER:mailto:testbash@ministryoftesting.com
SUMMARY:TestBash Home 2020
URL;VALUE=URI:https://ti.to/mot/testbash-home-2020
URL;VALUE=URI:https://ti.to/mot/testbash-home-2020
END:VEVENT
END:VCALENDAR
