BEGIN:VCALENDAR
VERSION:2.0
PRODID:icalendar-ruby
CALSCALE:GREGORIAN
BEGIN:VEVENT
DTSTAMP:20260422T085437Z
UID:AxRKsQ
DTSTART;VALUE=DATE:20200423
DTEND;VALUE=DATE:20200425
CLASS:PUBLIC
CREATED:20191119T154339
DESCRIPTION: You can find full details of TestBash Detroit here. \n\n Intro
  \n\n We're bringing talks and workshops to the Midwest US!  The US editio
 n of our software testing conference TestBash is heading to Detroit for th
 e first time. TestBash Detroit has been created in partnership with the wo
 nderful Hilary Weaver-Robb. \n\n Training \n\n For the pre-TestBash course
 \, we will be hosting the three-day Automation in Testing course with Rich
 ard Bradshaw and Mark Winteringham for the first time in the US. The cours
 e will run from 20th-22nd April. \n\n Workshops \n\n 23rd April\, is a wor
 kshop day\, with 3 full-day workshops. \n\n Talks \n\n 24th April is our c
 onference day in our single track format consisting of 9 talks and\, of co
 urse\, our famously fun 99-second talks.  \n\n  Community \n\n On all the 
 days\, you can expect a wonderful community to come together in a friendly
 \, professional and safe environment. We think you will feel at home when 
 you arrive! \n\n Pro MoT \n\n Pro MoT members save $75 per ticket. \n\n Bu
 dget all spent? Too far to travel? But interested in the content? Buy MoT 
 Pro and get access to all these talks from this TestBash\, plus all previo
 us TestBashes and our whole catalogue. \n\n The venue for the TestBash con
 ference day is the very cool St Andrew's Hall. \n\n Tickets \n\n ↓↓↓
  \n
LAST-MODIFIED:20250620T150524
LOCATION:Detroit
ORGANIZER:mailto:detroit@ministryoftesting.com
SUMMARY:TestBash Detroit 2020
URL;VALUE=URI:https://ti.to/mot/testbash-detroit-2020
URL;VALUE=URI:https://ti.to/mot/testbash-detroit-2020
END:VEVENT
END:VCALENDAR
